Workbook

Sheet Contents
A1: Contents Table
A3: Contents | B3: Link
A4: ='[1]Ann 1'!A3 -> Annexure 1 - Estimated cost of the project | B4: Ann 1'!A1
A5: ='[1]Ann 2'!A1 -> Annexure 2 - Means of Finance | B5: Ann 2'!A1
A6: ='Ann 3'!A1 -> Annexure 3 - Complete Estimate of Civil and Plant and Machinery | B6: Ann 3'!A1
A7: ='[1]Ann 4'!A1 -> Annexure 4 - Estimated Cost of Production | B7: Ann 4'!A1
A8: ='[1]Ann 5'!A1 -> Annexure 5- Projected balance sheet | B8: Ann 5'!A1
A9: ='Ann 8'!A1 -> Annexure 8 - Details of Mnpower | B9: Ann 8'!A1
A10: ='Ann 9'!A1 -> Annexure 9 - Computation of Depreciation | B10: Ann 9'!A1
A11: ='Ann 10'!A1 -> Annexure 10 - Calculation of Income tax | B11: Ann 10'!A1
A12: ='[1]Ann 11'!A1 -> Annexure 11- Break even analysis (At maximum capacity utilization) | B12: Ann 11'!A1
A13: ='Ann 13'!A1 -> Annexure 13 - Repayment schedule | B13: Ann 13'!A1
A14: ='Ann 14'!A1 -> Annexure 14 - Cash flow statement | B14: Ann 14'!A1
A15: =[1]Assumptions!B1 -> Assumptions | B15: Assumptions!A1
A16: =[1]Budgets!A1 -> Sales Budget | B16: Budgets!A1

Sheet Ann 1
A1: DPR with subsidy
A3: Annexure 1 - Estimated cost of the project
A5: Estimated cost of project
A6: Sr. No. | B6: Particulars | C6: Grand Total (in lakhs)
A7: 1 | B7: Land and site development
A8: (a) | B8: Land | C8: 0
B9: Total | C9: =SUM(C8) -> 0
A11: 2 | B11: Site Development | C11: 0
A12: (a) | B12: Total | C12: =C11 -> 0
A14: 3 | B14: Civil Work
A15: (a) | B15: Civil Work | C15: ='Ann 3'!E5/100000 -> 32
B16: Total | C16: =C15 -> 32
A18: 4 | B18: Plant and Machinery (indegenous)
A19: (a) | B19: Plant and Machinery | C19: ='Ann 3'!E17/100000 -> 140
B20: Total | C20: =C19 -> 140
A22: 5 | B22: Miscellanoeus Fixed Assets
A23: (a) | B23: Cost | C23: ='Ann 3'!E19/100000 -> 2
A25: 6 | B25: Working Capital Margin | C25: 50
A27: 7 | B27: Preliminary Expenses | C27: 0
A28: (a) | B28: Security Deposit | C28: 0
B29: Total
A31: 8 | B31: Pre-Operative Expense
B32: (for 6 months upto the date od commencement of commercial production)
A33: (a) | B33: Establisment and Travelling and Other Expenses
A34: (b) | B34: Legal and Misc Expense | C34: 1
B35: Total | C35: =C34 -> 1
A37: 9 | B37: Service Centre Infrastructure | C37: 0
A39: 10 | B39: Contingencies | C39: 0
B41: Total Cost of Project | C41: =C35+C27+C25+C20+C16+C23+C37+C12+C9+C39 -> 225

Sheet Ann 2
A1: Annexure 2 - Means of Finance
A3: Sr. No. | B3: Item | C3: Grand Total (in lakhs)
A4: 1 | B4: Promoter's equity | C4: =C8*10% -> 22.5
A5: 2 | B5: Eligible Assistance | C5: 0
A6: 3 | B6: Term Loan | C6: =C8-C7-C4 -> 152.5 | D6: =C6/$C$8 -> 0.67777778
A7: 4 | B7: CC Limit | C7: ='Ann 1'!C25 -> 50 | D7: =C7/$C$8 -> 0.22222222
B8: Total Project cost | C8: ='Ann 1'!C41 -> 225

Sheet Ann 3
A1: Annexure 3 - Complete Estimate of Civil and Plant and Machinery
A3: 1. Civil Work | C3: Units | E3: Amt
A4: 1 | B4: Civil work for building | C4: 1 | E4: =8000*400 -> 3200000
A5: Total Civil Work | E5: =SUM(E4:E4) -> 3200000
A7: 2. Plant and machinery | C7: Units | E7: Amt
A8: 1 | B8: Vibrio separator | C8: 1 | E8: 14000000
A9: 2 | B9: Vibrio destoner | C9: 1
A10: 3 | B10: Gravity separator | C10: 1
A11: 4 | B11: Bucket and belt elevators | C11: 1
A12: 5 | B12: Pneumatic system | C12: 1
A13: 6 | B13: Flour mills | C13: 1
A14: 7 | B14: Storage tanks of capacity upto 20 tons | C14: 1
A15: 8 | B15: Atta storage silo | C15: 1
A16: 9 | B16: Form fill and seal machine | C16: 1
A17: Total Plant and Machinery | E17: =SUM(E8) -> 14000000
A19: 3. Miscellanoeus Fixed Asset | E19: 200000
A21: Total fixed Assets | E21: =E17+E5+E19 -> 17400000

Sheet Ann 4
A1: Annexure 4 - Estimated Cost of Production
A3: Sr. No | B3: Description | C3: Year ending March 31st
C4: I | D4: II | E4: III | F4: IV | G4: V | H4: VI | I4: VII | J4: VIII | K4: IX
B5: No of Working months | C5: 12 | D5: 12 | E5: 12 | F5: 12 | G5: 12 | H5: 12 | I5: 12 | J5: 12 | K5: 12
B7: Input wheat grain cost | C7: =Budgets!B7*Budgets!$D$18*1.15 -> 37059348 | D7: =Budgets!C7*1.15*Budgets!$D$18*1.05 -> 42155008 | E7: =Budgets!D7*1.15*Budgets!$D$18*1.05 -> 45397701 | F7: =Budgets!E7*1.15*Budgets!$D$18*1.05 -> 48640394 | G7: =Budgets!F7*1.15*Budgets!$D$18*1.05 -> 51883087 | H7: =Budgets!G7*1.15*Budgets!$D$18*1.05 -> 55125780 | I7: =Budgets!H7*1.15*Budgets!$D$18*1.05 -> 58368473 | J7: =Budgets!I7*1.15*Budgets!$D$18*1.05 -> 61611166 | K7: =Budgets!J7*1.15*Budgets!$D$18*1.05 -> 64853859
B8: Electricity expense | C8: =250000+C44 -> 1370000 | D8: =250000+D44 -> 1426000 | E8: =250000+E44 -> 1484800 | F8: =250000+F44 -> 1546540 | G8: =250000+G44 -> 1611367 | H8: =250000+H44 -> 1679435.4 | I8: =250000+I44 -> 1750907.1 | J8: =250000+J44 -> 1825952.5 | K8: =250000+K44 -> 1904750.1
B9: Insurance cost @ 2% of purchase cost | C9: =2%*'Ann 3'!E17 -> 280000 | D9: =C9*1.05 -> 294000 | E9: =D9*1.05 -> 308700 | F9: =E9*1.05 -> 324135 | G9: =F9*1.05 -> 340341.75 | H9: =G9*1.05 -> 357358.84 | I9: =H9*1.05 -> 375226.78 | J9: =I9*1.05 -> 393988.12 | K9: =J9*1.05 -> 413687.52
B10: Running and Manintenance expense @20% of sales | C10: =C23*20% -> 14893416 | D10: =D23*20% -> 17747987 | E10: =E23*20% -> 19113217 | F10: =F23*20% -> 20478447 | G10: =G23*20% -> 21843677 | H10: =H23*20% -> 23208907 | I10: =I23*20% -> 24574136 | J10: =J23*20% -> 25939366 | K10: =K23*20% -> 27304596
B11: Cost of Production | C11: =SUM(C7:C10) -> 53602764 | D11: =SUM(D7:D10) -> 61622996 | E11: =SUM(E7:E10) -> 66304419 | F11: =SUM(F7:F10) -> 70989516 | G11: =SUM(G7:G10) -> 75678473 | H11: =SUM(H7:H10) -> 80371481 | I11: =SUM(I7:I10) -> 85068743 | J11: =SUM(J7:J10) -> 89770473 | K11: =SUM(K7:K10) -> 94476893
B12: Add: Opening Stock | C12: 0 | D12: =C13 -> 696768 | E12: =D13 -> 1451600 | F12: =E13 -> 2264496 | G12: =F13 -> 3135456 | H12: =G13 -> 4064480 | I12: =H13 -> 3077392 | J12: =I13 -> 2032240 | K12: =J13 -> 929024
B13: Less: Closing Stock | C13: =Budgets!B25*20 -> 696768 | D13: =Budgets!C25*20 -> 1451600 | E13: =Budgets!D25*20 -> 2264496 | F13: =Budgets!E25*20 -> 3135456 | G13: =Budgets!F25*20 -> 4064480 | H13: =Budgets!G25*20 -> 3077392 | I13: =Budgets!H25*20 -> 2032240 | J13: =Budgets!I25*20 -> 929024 | K13: =Budgets!J25*20 -> -232256
B14: Sub Total | C14: =C11+C12-C13 -> 52905996 | D14: =D11+D12-D13 -> 60868164 | E14: =E11+E12-E13 -> 65491522 | F14: =F11+F12-F13 -> 70118556 | G14: =G11+G12-G13 -> 74749449 | H14: =H11+H12-H13 -> 81358569 | I14: =I11+I12-I13 -> 86113895 | J14: =J11+J12-J13 -> 90873689 | K14: =K11+K12-K13 -> 95638173
B16: Administrative salaries and wages | C16: ='Ann 8'!E14 -> 5227200 | D16: =1.05*C16 -> 5488560 | E16: =1.05*D16 -> 5762988 | F16: =1.05*E16 -> 6051137.4 | G16: =1.05*F16 -> 6353694.3 | H16: =1.05*G16 -> 6671379 | I16: =1.05*H16 -> 7004947.9 | J16: =1.05*I16 -> 7355195.3 | K16: =1.05*J16 -> 7722955.1
B17: Packing expense @ Rs. 0.3 per kg | C17: =0.3*Budgets!B6 -> 1045152 | D17: =0.3*Budgets!C6*1.1 -> 1245472.8 | E17: =0.3*Budgets!D6*1.1 -> 1341278.4 | F17: =0.3*Budgets!E6*1.1 -> 1437084 | G17: =0.3*Budgets!F6*1.1 -> 1532889.6 | H17: =0.3*Budgets!G6*1.1 -> 1628695.2 | I17: =0.3*Budgets!H6*1.1 -> 1724500.8 | J17: =0.3*Budgets!I6*1.1 -> 1820306.4 | K17: =0.3*Budgets!J6*1.1 -> 1916112
B18: selling expense @ Re. 1.5 per kg | C18: =1.5*Budgets!B6 -> 5225760 | D18: =1.5*Budgets!C6*1.1 -> 6227364 | E18: =1.5*Budgets!D6*1.1 -> 6706392 | F18: =1.5*Budgets!E6*1.1 -> 7185420 | G18: =1.5*Budgets!F6*1.1 -> 7664448 | H18: =1.5*Budgets!G6*1.1 -> 8143476 | I18: =1.5*Budgets!H6*1.1 -> 8622504 | J18: =1.5*Budgets!I6*1.1 -> 9101532 | K18: =1.5*Budgets!J6*1.1 -> 9580560
B19: Office expense - fixed cost | C19: 500000 | D19: 500000 | E19: 500000 | F19: 500000 | G19: 500000 | H19: 500000 | I19: 500000 | J19: 500000 | K19: 500000
B20: Total | C20: =SUM(C16:C19) -> 11998112 | D20: =SUM(D16:D19) -> 13461397 | E20: =SUM(E16:E19) -> 14310658 | F20: =SUM(F16:F19) -> 15173641 | G20: =SUM(G16:G19) -> 16051032 | H20: =SUM(H16:H19) -> 16943550 | I20: =SUM(I16:I19) -> 17851953 | J20: =SUM(J16:J19) -> 18777034 | K20: =SUM(K16:K19) -> 19719627
B22: Cost of Sales | C22: =C20+C14 -> 64904108 | D22: =D20+D14 -> 74329561 | E22: =E20+E14 -> 79802181 | F22: =F20+F14 -> 85292198 | G22: =G20+G14 -> 90800481 | H22: =H20+H14 -> 98302119 | I22: =I20+I14 -> 1.0396585e+08 | J22: =J20+J14 -> 1.0965072e+08 | K22: =K20+K14 -> 1.153578e+08
B23: Expected sales revenue | C23: =Budgets!B10 -> 74467080 | D23: =Budgets!C10 -> 88739937 | E23: =Budgets!D10 -> 95566086 | F23: =Budgets!E10 -> 1.0239224e+08 | G23: =Budgets!F10 -> 1.0921838e+08 | H23: =Budgets!G10 -> 1.1604453e+08 | I23: =Budgets!H10 -> 1.2287068e+08 | J23: =Budgets!I10 -> 1.2969683e+08 | K23: =Budgets!J10 -> 136522980
B24: Gross Profit | C24: =C23-C22 -> 9562972 | D24: =D23-D22 -> 14410376 | E24: =E23-E22 -> 15763905 | F24: =F23-F22 -> 17100037 | G24: =G23-G22 -> 18417903 | H24: =H23-H22 -> 17742414 | I24: =I23-I22 -> 18904834 | J24: =J23-J22 -> 20046108 | K24: =K23-K22 -> 21165180
B26: Financial expense
B27: Interest on Term Loan | C27: =SUM('Ann 13'!E10:E13)*100000 -> 906201.92 | D27: =SUM('Ann 13'!E14:E17)*100000 -> 791826.92 | E27: =SUM('Ann 13'!E18:E21)*100000 -> 651057.69 | F27: =SUM('Ann 13'!E22:E25)*100000 -> 510288.46 | G27: =SUM('Ann 13'!E26:E29)*100000 -> 202355.77 | H27: =SUM('Ann 13'!E30:E33)*100000 -> 0 | I27: =SUM('Ann 13'!E34:E37)*100000 -> 0 | J27: 0 | K27: 0
B28: Interest on WC Loan | C28: ='Ann 1'!$C$25*100000*10% -> 500000 | D28: ='Ann 1'!$C$25*100000*10% -> 500000 | E28: ='Ann 1'!$C$25*100000*10% -> 500000 | F28: ='Ann 1'!$C$25*100000*10% -> 500000 | G28: ='Ann 1'!$C$25*100000*10% -> 500000 | H28: ='Ann 1'!$C$25*100000*10% -> 500000 | I28: ='Ann 1'!$C$25*100000*10% -> 500000 | J28: ='Ann 1'!$C$25*100000*10% -> 500000 | K28: ='Ann 1'!$C$25*100000*10% -> 500000
B29: Total Financial expense | C29: =SUM(C27:C28) -> 1406201.9 | D29: =SUM(D27:D28) -> 1291826.9 | E29: =SUM(E27:E28) -> 1151057.7 | F29: =SUM(F27:F28) -> 1010288.5 | G29: =SUM(G27:G28) -> 702355.77 | H29: =SUM(H27:H28) -> 500000 | I29: =SUM(I27:I28) -> 500000 | J29: =SUM(J27:J28) -> 500000 | K29: =SUM(K27:K28) -> 500000
B31: Operating profits (PBT) | C31: =C24-C29 -> 8156770.1 | D31: =D24-D29 -> 13118550 | E31: =E24-E29 -> 14612847 | F31: =F24-F29 -> 16089749 | G31: =G24-G29 -> 17715548 | H31: =H24-H29 -> 17242414 | I31: =I24-I29 -> 18404834 | J31: =J24-J29 -> 19546108 | K31: =K24-K29 -> 20665180
B32: Preliminary Expense | C32: ='Ann 1'!C34*100000 -> 100000 | D32: 0 | E32: 0 | F32: 0 | G32: 0 | H32: 0 | I32: 0 | J32: 0 | K32: 0
B33: Other income - Subsidy for repayment of loan | C33: 0 | D33: 0 | E33: 0 | F33: 0 | G33: ='Ann 13'!D5*100000 -> 6125000 | H33: 0 | I33: 0 | J33: 0 | K33: 0
B34: depreciation | C34: ='Ann 9'!C12+'Ann 9'!D12+'Ann 9'!E12 -> 2440000 | D34: ='Ann 9'!C13+'Ann 9'!D13+'Ann 9'!E13 -> 2091000 | E34: ='Ann 9'!C14+'Ann 9'!D14+'Ann 9'!E14 -> 1792650 | F34: ='Ann 9'!C15+'Ann 9'!D15+'Ann 9'!E15 -> 1537522.5 | G34: ='Ann 9'!C16+'Ann 9'!D16+'Ann 9'!E16 -> 1319287.1 | H34: ='Ann 9'!C17+'Ann 9'!D17+'Ann 9'!E17 -> 1132547.8 | I34: ='Ann 9'!C18+'Ann 9'!D18+'Ann 9'!E18 -> 972703.92 | J34: ='Ann 9'!C19+'Ann 9'!D19+'Ann 9'!E19 -> 835832.83 | K34: ='Ann 9'!C20+'Ann 9'!D20+'Ann 9'!E20 -> 718588.95
B35: Net Profit before Tax | C35: =C31-C32-C34 -> 5616770.1 | D35: =D31-D32-D34 -> 11027550 | E35: =E31-E32-E34 -> 12820197 | F35: =F31-F32-F34 -> 14552226 | G35: =G31-G32-G34+G33 -> 22521260 | H35: =H31-H32-H34+H33 -> 16109866 | I35: =I31-I32-I34+I33 -> 17432130 | J35: =J31-J32-J34+J33 -> 18710276 | K35: =K31-K32-K34+K33 -> 19946591
B36: Income Tax | C36: ='Ann 10'!B14 -> 1715031 | D36: ='Ann 10'!C14 -> 3308264.9 | E36: ='Ann 10'!D14 -> 3846059.2 | F36: ='Ann 10'!E14 -> 4365667.9 | G36: ='Ann 10'!F14 -> 4918878.1 | H36: ='Ann 10'!G14 -> 4832959.8 | I36: ='Ann 10'!H14 -> 5229639 | J36: ='Ann 10'!I14 -> 5613082.7 | K36: ='Ann 10'!J14 -> 5983977.4
B37: Profits after Tax | C37: =C35-C36 -> 3901739.1 | D37: =D35-D36 -> 7719284.7 | E37: =E35-E36 -> 8974138.2 | F37: =F35-F36 -> 10186558 | G37: =G35-G36 -> 17602382 | H37: =H35-H36 -> 11276906 | I37: =I35-I36 -> 12202491 | J37: =J35-J36 -> 13097193 | K37: =K35-K36 -> 13962614
B38: Distribution of profits (80%) | C38: =C37*80% -> 3121391.2 | D38: =D37*80% -> 6175427.7 | E38: =E37*80% -> 7179310.5 | F38: =F37*80% -> 8149246.8 | G38: =G37*80% -> 14081906 | H38: =H37*80% -> 9021525 | I38: =I37*80% -> 9761992.8 | J38: =J37*80% -> 10477754 | K38: =K37*80% -> 11170091
B39: Profit transfer to balance sheet | C39: =C37-C38 -> 780347.81 | D39: =D37-D38 -> 1543856.9 | E39: =E37-E38 -> 1794827.6 | F39: =F37-F38 -> 2037311.7 | G39: =G37-G38 -> 3520476.5 | H39: =H37-H38 -> 2255381.3 | I39: =I37-I38 -> 2440498.2 | J39: =J37-J38 -> 2619438.6 | K39: =K37-K38 -> 2792522.8
A41: 1. Electricity are semi-fixed cost. Rs. 250,000 pa is fixed, balance is variable at Rs. 14 per unit usage
A42: 2. Electricity usage in units is given below
B43: Usage in units | C43: 80000 | D43: =C43*1.05 -> 84000 | E43: =D43*1.05 -> 88200 | F43: =E43*1.05 -> 92610 | G43: =F43*1.05 -> 97240.5 | H43: =G43*1.05 -> 102102.53 | I43: =H43*1.05 -> 107207.65 | J43: =I43*1.05 -> 112568.03 | K43: =J43*1.05 -> 118196.44
B44: Variable cost | C44: =C43*14 -> 1120000 | D44: =D43*14 -> 1176000 | E44: =E43*14 -> 1234800 | F44: =F43*14 -> 1296540 | G44: =G43*14 -> 1361367 | H44: =H43*14 -> 1429435.4 | I44: =I43*14 -> 1500907.1 | J44: =J43*14 -> 1575952.5 | K44: =K43*14 -> 1654750.1
A45: 3. It is assumed that insuarance cost is 2% of purchase price and this will increase 5% annually
A46: 4. Closing stock is valued at Rs 20 (avg cost)
A47: 5. It is assumed that 10% of input gets wasted in production and 5% increase in selling price

Sheet Ann 5
A1: Annexure 5- Projected balance sheet
A3: Projected Baalance sheet
A5: Sr. No | B5: Description | C5: Year ending March 31st
C6: I | D6: II | E6: III | F6: IV | G6: V | H6: VI | I6: VII | J6: VIII | K6: IX
A7: A | B7: Asset
A8: 1 | B8: Fixed Capital expenditure
B9: Gross Block | C9: =('Ann 9'!F9*100000)+('Ann 1'!C8*100000) -> 17400000 | D9: =C11 -> 14960000 | E9: =D11 -> 12869000 | F9: =E11 -> 11076350 | G9: =F11 -> 9538827.5 | H9: =G11 -> 8219540.4 | I9: =H11 -> 7086992.6 | J9: =I11 -> 6114288.7 | K9: =J11 -> 5278455.9
B10: Less- Depreciation | C10: ='Ann 9'!C12+'Ann 9'!D12+'Ann 9'!E12 -> 2440000 | D10: ='Ann 9'!C13+'Ann 9'!D13+'Ann 9'!E13 -> 2091000 | E10: ='Ann 9'!C14+'Ann 9'!D14+'Ann 9'!E14 -> 1792650 | F10: ='Ann 9'!C15+'Ann 9'!D15+'Ann 9'!E15 -> 1537522.5 | G10: ='Ann 9'!C16+'Ann 9'!D16+'Ann 9'!E16 -> 1319287.1 | H10: ='Ann 9'!C17+'Ann 9'!D17+'Ann 9'!E17 -> 1132547.8 | I10: =+'Ann 9'!C18+'Ann 9'!D18+'Ann 9'!E18 -> 972703.92 | J10: ='Ann 9'!C19+'Ann 9'!D19+'Ann 9'!E19 -> 835832.83 | K10: =+'Ann 9'!C20+'Ann 9'!D20+'Ann 9'!E20 -> 718588.95
B11: net Block | C11: =C9-C10 -> 14960000 | D11: =D9-D10 -> 12869000 | E11: =E9-E10 -> 11076350 | F11: =F9-F10 -> 9538827.5 | G11: =G9-G10 -> 8219540.4 | H11: =H9-H10 -> 7086992.6 | I11: =I9-I10 -> 6114288.7 | J11: =J9-J10 -> 5278455.9 | K11: =K9-K10 -> 4559866.9
A12: 2 | B12: Sundry debtors | C12: ='Ann 4'!C23*60/300 -> 14893416 | D12: ='Ann 4'!D23*60/300 -> 17747987 | E12: ='Ann 4'!E23*60/300 -> 19113217 | F12: ='Ann 4'!F23*60/300 -> 20478447 | G12: ='Ann 4'!G23*60/300 -> 21843677 | H12: ='Ann 4'!H23*60/300 -> 23208907 | I12: ='Ann 4'!I23*60/300 -> 24574136 | J12: ='Ann 4'!J23*60/300 -> 25939366 | K12: ='Ann 4'!K23*60/300 -> 27304596
A13: 3 | B13: Closing stock | C13: ='Ann 4'!C13 -> 696768 | D13: ='Ann 4'!D13 -> 1451600 | E13: ='Ann 4'!E13 -> 2264496 | F13: ='Ann 4'!F13 -> 3135456 | G13: ='Ann 4'!G13 -> 4064480 | H13: ='Ann 4'!H13 -> 3077392 | I13: ='Ann 4'!I13 -> 2032240 | J13: ='Ann 4'!J13 -> 929024 | K13: ='Ann 4'!K13 -> -232256
A14: 4 | B14: Cash/ bank balance | C14: ='Ann 14'!C21 -> 7142916.1 | D14: ='Ann 14'!D21 -> 7207285.3 | E14: ='Ann 14'!E21 -> 7652860.1 | F14: ='Ann 14'!F21 -> 8027727.5 | G14: ='Ann 14'!G21 -> 4917152.6 | H14: ='Ann 14'!H21 -> 9309316.6 | I14: ='Ann 14'!I21 -> 13784818 | J14: ='Ann 14'!J21 -> 18360452 | K14: ='Ann 14'!K21 -> 23049991
B15: Total assets | C15: =SUM(C11:C14) -> 37693100 | D15: =SUM(D11:D14) -> 39275873 | E15: =SUM(E11:E14) -> 40106923 | F15: =SUM(F11:F14) -> 41180458 | G15: =SUM(G11:G14) -> 39044850 | H15: =SUM(H11:H14) -> 42682608 | I15: =SUM(I11:I14) -> 46505483 | J15: =SUM(J11:J14) -> 50507298 | K15: =SUM(K11:K14) -> 54682198
A17: B | B17: Liabilities
A18: 1 | B18: Capital | C18: ='Ann 2'!C4*100000 -> 2250000 | D18: =C21 -> 3030347.8 | E18: =D21 -> 4574204.7 | F18: =E21 -> 6369032.4 | G18: =F21 -> 8406344.1 | H18: =G21 -> 11926821 | I18: =H21 -> 14182202 | J18: =I21 -> 16622700 | K18: =J21 -> 19242139
B19: Add- Profit | C19: ='Ann 4'!C39 -> 780347.81 | D19: ='Ann 4'!D39 -> 1543856.9 | E19: ='Ann 4'!E39 -> 1794827.6 | F19: ='Ann 4'!F39 -> 2037311.7 | G19: ='Ann 4'!G39 -> 3520476.5 | H19: ='Ann 4'!H39 -> 2255381.3 | I19: ='Ann 4'!I39 -> 2440498.2 | J19: ='Ann 4'!J39 -> 2619438.6 | K19: ='Ann 4'!K39 -> 2792522.8
B20: Less- Drawings | C20: 0 | D20: 0 | E20: 0 | F20: 0 | G20: 0 | H20: 0 | I20: 0 | J20: 0 | K20: 0
B21: Closing capital | C21: =C18+C19 -> 3030347.8 | D21: =D18+D19 -> 4574204.7 | E21: =E18+E19 -> 6369032.4 | F21: =F18+F19 -> 8406344.1 | G21: =G18+G19 -> 11926821 | H21: =H18+H19 -> 14182202 | I21: =I18+I19 -> 16622700 | J21: =J18+J19 -> 19242139 | K21: =K18+K19 -> 22034661
A22: 2 | B22: term Loan | C22: ='Ann 13'!C14*100000 -> 14076923 | D22: ='Ann 13'!C18*100000 -> 11730769 | E22: ='Ann 13'!C22*100000 -> 9384615.4 | F22: ='Ann 13'!C26*100000 -> 7038461.5 | G22: =('Ann 13'!C29-'Ann 13'!D29)*100000 -> 0 | H22: =('Ann 13'!C33-'Ann 13'!D33)*100000 -> 0 | I22: 0 | J22: 0 | K22: 0
A23: 3 | B23: Working capital | C23: ='Ann 2'!$C$7*100000 -> 5000000 | D23: ='Ann 2'!$C$7*100000 -> 5000000 | E23: ='Ann 2'!$C$7*100000 -> 5000000 | F23: ='Ann 2'!$C$7*100000 -> 5000000 | G23: ='Ann 2'!$C$7*100000 -> 5000000 | H23: ='Ann 2'!$C$7*100000 -> 5000000 | I23: ='Ann 2'!$C$7*100000 -> 5000000 | J23: ='Ann 2'!$C$7*100000 -> 5000000 | K23: ='Ann 2'!$C$7*100000 -> 5000000
A24: 4 | B24: Creditors | C24: =('Ann 4'!C10+'Ann 4'!C7)*90/300 -> 15585829 | D24: =('Ann 4'!D10+'Ann 4'!D7)*90/300 -> 17970899 | E24: =('Ann 4'!E10+'Ann 4'!E7)*90/300 -> 19353276 | F24: =('Ann 4'!F10+'Ann 4'!F7)*90/300 -> 20735652 | G24: =('Ann 4'!G10+'Ann 4'!G7)*90/300 -> 22118029 | H24: =('Ann 4'!H10+'Ann 4'!H7)*90/300 -> 23500406 | I24: =('Ann 4'!I10+'Ann 4'!I7)*90/300 -> 24882783 | J24: =('Ann 4'!J10+'Ann 4'!J7)*90/300 -> 26265160 | K24: =('Ann 4'!K10+'Ann 4'!K7)*90/300 -> 27647536
B25: Total liabilities | C25: =SUM(C21:C24) -> 37693100 | D25: =SUM(D21:D24) -> 39275873 | E25: =SUM(E21:E24) -> 40106923 | F25: =SUM(F21:F24) -> 41180458 | G25: =SUM(G21:G24) -> 39044850 | H25: =SUM(H21:H24) -> 42682608 | I25: =SUM(I21:I24) -> 46505483 | J25: =SUM(J21:J24) -> 50507298 | K25: =SUM(K21:K24) -> 54682198
B27: Current Ratio
B28: Current Assets | C28: =SUM(C12:C14) -> 22733100 | D28: =SUM(D12:D14) -> 26406873 | E28: =SUM(E12:E14) -> 29030573 | F28: =SUM(F12:F14) -> 31641630 | G28: =SUM(G12:G14) -> 30825309 | H28: =SUM(H12:H14) -> 35595615 | I28: =SUM(I12:I14) -> 40391194 | J28: =SUM(J12:J14) -> 45228842 | K28: =SUM(K12:K14) -> 50122331
B29: Current Liabilities | C29: =C24+C23 -> 20585829 | D29: =D24+D23 -> 22970899 | E29: =E24+E23 -> 24353276 | F29: =F24+F23 -> 25735652 | G29: =G24+G23 -> 27118029 | H29: =H24+H23 -> 28500406 | I29: =I24+I23 -> 29882783 | J29: =J24+J23 -> 31265160 | K29: =K24+K23 -> 32647536
B30: Ratio | C30: =C28/C29 -> 1.1043082 | D30: =D28/D29 -> 1.1495794 | E30: =E28/E29 -> 1.1920603 | F30: =F28/F29 -> 1.2294862 | G30: =G28/G29 -> 1.1367091 | H30: =H28/H29 -> 1.2489512 | I30: =I28/I29 -> 1.3516544 | J30: =J28/J29 -> 1.4466212 | K30: =K28/K29 -> 1.5352561
B31: Average | F31: =AVERAGE(C30:K30) -> 1.2660696
B33: Debt Equity ratio
B34: Debt | C34: =C22+C23 -> 19076923 | D34: =D22+D23 -> 16730769 | E34: =E22+E23 -> 14384615 | F34: =F22+F23 -> 12038462 | G34: =G22+G23 -> 5000000 | H34: =H22+H23 -> 5000000 | I34: =I22+I23 -> 5000000 | J34: =J22+J23 -> 5000000 | K34: =K22+K23 -> 5000000
B35: Equity | C35: =C21 -> 3030347.8 | D35: =D21 -> 4574204.7 | E35: =E21 -> 6369032.4 | F35: =F21 -> 8406344.1 | G35: =G21 -> 11926821 | H35: =H21 -> 14182202 | I35: =I21 -> 16622700 | J35: =J21 -> 19242139 | K35: =K21 -> 22034661
B36: Ratio | C36: =C34/C35 -> 6.2952916 | D36: =D34/D35 -> 3.6576345 | E36: =E34/E35 -> 2.2585245 | F36: =F34/F35 -> 1.4320686 | G36: =G34/G35 -> 0.41922321 | H36: =H34/H35 -> 0.35255457 | I36: =I34/I35 -> 0.30079349 | J36: =J34/J35 -> 0.25984638 | K36: =K34/K35 -> 0.22691522
B37: Average | F37: =AVERAGE(C36:K36) -> 1.6892058
B39: Fixed asset coverage ratio
B40: Fixed assets | C40: =C11 -> 14960000 | D40: =D11 -> 12869000 | E40: =E11 -> 11076350 | F40: =F11 -> 9538827.5 | G40: =G11 -> 8219540.4 | H40: =H11 -> 7086992.6 | I40: =I11 -> 6114288.7 | J40: =J11 -> 5278455.9 | K40: =K11 -> 4559866.9
B41: Debt | C41: =C22+C23 -> 19076923 | D41: =D22+D23 -> 16730769 | E41: =E22+E23 -> 14384615 | F41: =F22+F23 -> 12038462 | G41: =G22+G23 -> 5000000 | H41: =H22+H23 -> 5000000 | I41: =I22+I23 -> 5000000 | J41: =J22+J23 -> 5000000 | K41: =K22+K23 -> 5000000
B42: ratio | C42: =C40/C41 -> 0.78419355 | D42: =D40/D41 -> 0.76918161 | E42: =E40/E41 -> 0.77001364 | F42: =F40/F41 -> 0.79236267 | G42: =G40/G41 -> 1.6439081 | H42: 0 | I42: 0 | J42: 0 | K42: 0
F43: =AVERAGE(C42:K42) -> 0.52885106
B45: Debt service coverage ratio
B46: Interest on loan (TL + WC) | C46: ='Ann 4'!C29 -> 1406201.9 | D46: ='Ann 4'!D29 -> 1291826.9 | E46: ='Ann 4'!E29 -> 1151057.7 | F46: ='Ann 4'!F29 -> 1010288.5 | G46: ='Ann 4'!G29 -> 702355.77 | H46: ='Ann 4'!H29 -> 500000 | I46: ='Ann 4'!I29 -> 500000 | J46: ='Ann 4'!J29 -> 500000 | K46: ='Ann 4'!K29 -> 500000
B47: Instalment of loan | C47: =(SUM('Ann 13'!D10:D13)*100000)+('Ann 1'!$C$25*100000) -> 6173076.9 | D47: =(SUM('Ann 13'!D14:D17)*100000)+('Ann 1'!$C$25*100000) -> 7346153.8 | E47: =(SUM('Ann 13'!D18:D21)*100000)+('Ann 1'!$C$25*100000) -> 7346153.8 | F47: =(SUM('Ann 13'!D22:D25)*100000)+('Ann 1'!$C$25*100000) -> 7346153.8 | G47: =(SUM('Ann 13'!D26:D29)*100000)+('Ann 1'!$C$25*100000) -> 5913461.5 | H47: =(SUM('Ann 13'!D30:D33)*100000)+('Ann 1'!$C$25*100000) -> 5000000 | I47: =(SUM('Ann 13'!D34:D37)*100000)+('Ann 1'!$C$25*100000) -> 5000000 | J47: =(SUM('Ann 13'!D38:D38)*100000)+('Ann 1'!$C$25*100000) -> 5000000 | K47: =(SUM('Ann 13'!D42:D43)*100000)+('Ann 1'!$C$25*100000) -> 5000000
...

Sheet Ann 6
A1: Annexure 6 - requirement of Power and Fuel
A3: requirement of Fuel
A5: Fuel
A6: - For Tractor
A7: Mileage | B7: 5 | C7: km per litre
A8: Speed of tractor | B8: 30 | C8: km per hour
A9: Fuel requirement as per the operative hours | B9: =B8*3000*20/B7 -> 360000 | C9: litres
A11: - For Pwer tiller
A12: Mileage | B12: 0.5 | C12: Litre per hour
A13: Fuel requirement during the year for 30 units | B13: =B12*3000*30 -> 45000 | C13: Litres
A15: Total fuel requirement | B15: =B13+B9 -> 405000
A16: Fuel cost per litre | B16: 75
A17: Total fuel cost at 100% capacity utilization | B17: =B15*B16 -> 30375000

Sheet Ann 8
A1: Annexure 8 - Details of Mnpower
A3: Details of Manpower
A5: S. No. | B5: Designation | C5: In no. | D5: Salary per person per month | E5: Annual cost
A6: i. | B6: Accountant cum cashier | C6: 1 | D6: 31000 | E6: =D6*C6*12 -> 372000
A7: ii. | B7: Manager | C7: 1 | D7: 30000 | E7: =D7*C7*12 -> 360000
A8: iii. | B8: Mechanic cum operator | C8: 7 | D8: 16000 | E8: =D8*C8*12 -> 1344000
A9: iv. | B9: Labour | C9: 12 | D9: 12500 | E9: =D9*C9*12 -> 1800000
A10: v. | B10: Security | C10: 4 | D10: 10000 | E10: =D10*C10*12 -> 480000
A11: Total | E11: =SUM(E6:E10) -> 4356000
A13: Add: benefits @ 20% | E13: =E11*20% -> 871200
A14: Total | E14: =SUM(E11:E13) -> 5227200
A16: Total annual wages | E16: =E14 -> 5227200
A17: Annual increase in wages | E17: 0.05
A18: Total manpower | E18: =SUM(C6:C10) -> 25

Sheet Ann 9
A1: Annexure 9 - Computation of Depreciation
A3: Computation of Depreciation
A5: Sr. No. | B5: Particulars | C5: Building and civil work | D5: Plant and Machinery | E5: Misc Fixed Asset | F5: Amount in lakhs
A6: i. | B6: Cost | C6: ='Ann 1'!C15*100000 -> 3200000 | D6: =('Ann 1'!C20+'Ann 1'!C37)*100000 -> 14000000 | E6: ='Ann 3'!E19 -> 200000 | F6: =SUM(C6:E6)/100000 -> 174
A7: ii. | B7: Pre operatives | C7: 0 | D7: 0 | E7: 0 | F7: =SUM(C7:E7)/100000 -> 0
A8: iii. | B8: Contingencies | C8: 0 | D8: 0 | E8: ='Ann 1'!C39*100000 -> 0 | F8: =SUM(C8:E8)/100000 -> 0
B9: Total | F9: =SUM(F6:F8) -> 174
B11: Rates of Depreciation | C11: 0.1 | D11: 0.15 | E11: 0.1 | F11: Total depreciation for the year
A12: Year | B12: 1 | C12: =C11*C6 -> 320000 | D12: =D11*D6 -> 2100000 | E12: =E11*(E6+E8) -> 20000 | F12: =SUM(C12:E12) -> 2440000
A13: Year | B13: 2 | C13: =(C6-C12)*C11 -> 288000 | D13: =(D6-D12)*D11 -> 1785000 | E13: =(E6+E8-E12)*E11 -> 18000 | F13: =SUM(C13:E13) -> 2091000
A14: Year | B14: 3 | C14: =(C6-C12-C13)*C11 -> 259200 | D14: =(D6-D12-D13)*D11 -> 1517250 | E14: =(E6+E8-E12-E13)*E11 -> 16200 | F14: =SUM(C14:E14) -> 1792650
A15: Year | B15: 4 | C15: =(C6-C12-C13-C14)*C11 -> 233280 | D15: =(D6-D12-D13-D14)*D11 -> 1289662.5 | E15: =(E6+E8-E12-E13-E14)*E11 -> 14580 | F15: =SUM(C15:E15) -> 1537522.5
A16: Year | B16: 5 | C16: =(C6-C12-C13-C14-C15)*C11 -> 209952 | D16: =(D6-D12-D13-D14-D15)*D11 -> 1096213.1 | E16: =(E6+E8-E12-E13-E14-E15)*E11 -> 13122 | F16: =SUM(C16:E16) -> 1319287.1
A17: Year | B17: 6 | C17: =(C6-C12-C13-C14-C15-C16)*C11 -> 188956.8 | D17: =(D6-D12-D13-D14-D15-D16)*D11 -> 931781.16 | E17: =(E6+E8-E12-E13-E14-E15-E16)*E11 -> 11809.8 | F17: =SUM(C17:E17) -> 1132547.8
A18: Year | B18: 7 | C18: =(C6-C12-C13-C14-C15-C16-C17)*C11 -> 170061.12 | D18: =(D6-D12-D13-D14-D15-D16-D17)*D11 -> 792013.98 | E18: =(E6+E8-E12-E13-E14-E15-E16-E17)*E11 -> 10628.82 | F18: =SUM(C18:E18) -> 972703.92
A19: Year | B19: 8 | C19: =(C6-C12-C13-C14-C15-C16-C17-C18)*C11 -> 153055.01 | D19: =(D6-D12-D13-D14-D15-D16-D17-D18)*D11 -> 673211.89 | E19: =(E6+E8-E12-E13-E14-E15-E16-E17-E18)*E11 -> 9565.938 | F19: =SUM(C19:E19) -> 835832.83
A20: Year | B20: 9 | C20: =(C6-C12-C13-C14-C15-C16-C17-C18-C19)*C11 -> 137749.51 | D20: =(D6-D12-D13-D14-D15-D16-D17-D18-D19)*D11 -> 572230.1 | E20: =(E6+E8-E12-E13-E14-E15-E16-E17-E18-E19)*E11 -> 8609.3442 | F20: =SUM(C20:E20) -> 718588.95

Sheet Ann 10
A1: Annexure 10 - Calculation of Income tax
A3: Calculation of Income Tax
A5: Particulars | B5: Year ending March 31st
B6: I | C6: II | D6: III | E6: IV | F6: V | G6: VI | H6: VII | I6: VIII | J6: IX
A7: Net profit before tax | B7: ='Ann 4'!C31 -> 8156770.1 | C7: ='Ann 4'!D31 -> 13118550 | D7: ='Ann 4'!E31 -> 14612847 | E7: ='Ann 4'!F31 -> 16089749 | F7: ='Ann 4'!G31 -> 17715548 | G7: ='Ann 4'!H31 -> 17242414 | H7: ='Ann 4'!I31 -> 18404834 | I7: ='Ann 4'!J31 -> 19546108 | J7: ='Ann 4'!K31 -> 20665180
A8: Add- dep on SLM | B8: 0 | C8: 0 | D8: 0 | E8: 0 | F8: 0 | G8: 0 | H8: 0 | I8: 0 | J8: 0
A9: Sub total | B9: =B7+B8 -> 8156770.1 | C9: =C7+C8 -> 13118550 | D9: =D7+D8 -> 14612847 | E9: =E7+E8 -> 16089749 | F9: =F7+F8 -> 17715548 | G9: =G7+G8 -> 17242414 | H9: =H7+H8 -> 18404834 | I9: =I7+I8 -> 19546108 | J9: =J7+J8 -> 20665180
A10: Less- Dep on WDV | B10: =SUM('Ann 9'!C12:E12) -> 2440000 | C10: =SUM('Ann 9'!C13:E13) -> 2091000 | D10: =SUM('Ann 9'!C14:E14) -> 1792650 | E10: =SUM('Ann 9'!C15:E15) -> 1537522.5 | F10: =SUM('Ann 9'!C16:E16) -> 1319287.1 | G10: =SUM('Ann 9'!C17:E17) -> 1132547.8 | H10: =SUM('Ann 9'!C18:E18) -> 972703.92 | I10: =SUM('Ann 9'!C19:E19) -> 835832.83 | J10: =SUM('Ann 9'!C20:E20) -> 718588.95
A11: Sub total | B11: =B9-B10 -> 5716770.1 | C11: =C9-C10 -> 11027550 | D11: =D9-D10 -> 12820197 | E11: =E9-E10 -> 14552226 | F11: =F9-F10 -> 16396260 | G11: =G9-G10 -> 16109866 | H11: =H9-H10 -> 17432130 | I11: =I9-I10 -> 18710276 | J11: =J9-J10 -> 19946591
A12: Less - Deductions | B12: 0 | C12: 0 | D12: 0 | E12: 0 | F12: 0 | G12: 0 | H12: 0 | I12: 0 | J12: 0
A13: Taxable profits | B13: =B11 -> 5716770.1 | C13: =C11 -> 11027550 | D13: =D11 -> 12820197 | E13: =E11 -> 14552226 | F13: =F11 -> 16396260 | G13: =G11 -> 16109866 | H13: =H11 -> 17432130 | I13: =I11 -> 18710276 | J13: =J11 -> 19946591
A14: Income tax @30% | B14: =B13*30% -> 1715031 | C14: =C13*30% -> 3308264.9 | D14: =D13*30% -> 3846059.2 | E14: =E13*30% -> 4365667.9 | F14: =F13*30% -> 4918878.1 | G14: =G13*30% -> 4832959.8 | H14: =H13*30% -> 5229639 | I14: =I13*30% -> 5613082.7 | J14: =J13*30% -> 5983977.4

Sheet Ann 11
A1: Annexure 11- Break even analysis (At maximum capacity utilization)
A3: Break even capacity at maximum capacity utilixzation
B5: Sales | E5: ='Ann 4'!C23/70% -> 1.0638154e+08
B6: Variable cost
B7: - Running and maintenance cost | D7: =E5*10% -> 10638154
B8: - Interest on Working capital | D8: ='Ann 2'!C7*100000*10% -> 500000
B9: - electricity expense | D9: ='Ann 4'!K44 -> 1654750.1 | E9: =SUM(D7:D9) -> 12792904
B10: Contribution | E10: =E5-E9 -> 93588638
B11: Less: Fixed costs
B12: Wages and salaries | E12: ='Ann 8'!E14 -> 5227200
B13: Depreciation | E13: ='Ann 9'!F12 -> 2440000
B14: Insurance | E14: ='Ann 4'!C9 -> 280000
B15: Electricity fixed charge | E15: 250000
B16: Fixed office charges | E16: 500000
B17: Interest on TL | E17: =SUM('Ann 13'!E10:E13)*100000 -> 906201.92
B18: Fixed cost | E18: =SUM(E12:E17) -> 9603401.9
B20: Particulars | C20: Rs. per kg
B21: Sales price per kg | C21: =Budgets!C18 -> 21
B22: Variable costs
B23: Input wheat grain cost | C23: =Budgets!D18 -> 18.5
B24: Electricity cost | C24: =D9/Budgets!B18 -> 0.18999151
B25: Interest on working capital | C25: =D8/Budgets!B14 -> 0.057407918
B26: Contribution per unit | C26: =C21-SUM(C23:C25) -> 2.2526006
B27: BEP in kgs | C27: =E18/C26 -> 4263251.1
B28: Total BEP % | C28: =C27/Budgets!B18 -> 0.48948874
A30: Break-even point is the condition when an entity generate sufficient revenue that it can meet its fixed expense after deducting any variable expense, i.e., the point where contribution is equal to the fixed expense.
A31: For the first year of operation the break-even capacity comes at 48.95% capacity, it is because of the fact that in the Initial year the fixed expense of consultancy for project is taken in to consideration for calculation of BEP. considering our operational capacity in year 1 to be 60% which is more than the BEP, hence we can conclude that the project is sound enough to cover its fixed expense.

Sheet Ann 12
A1: Annexure 12 - Profitability statement
C3: Years
C4: 1 | D4: 2 | E4: 3 | F4: 4 | G4: 5 | H4: 6 | I4: 7 | J4: 8 | K4: 9
A5: Vegetable procument expense | C5: ='Ann 4'!#REF! -> #REF! | D5: ='Ann 4'!#REF! -> #REF! | E5: ='Ann 4'!#REF! -> #REF! | F5: ='Ann 4'!#REF! -> #REF! | G5: ='Ann 4'!#REF! -> #REF! | H5: ='Ann 4'!#REF! -> #REF! | I5: ='Ann 4'!#REF! -> #REF! | J5: ='Ann 4'!#REF! -> #REF! | K5: ='Ann 4'!#REF! -> #REF!
A6: Fruits procurement expense | C6: ='Ann 4'!#REF! -> #REF! | D6: ='Ann 4'!#REF! -> #REF! | E6: ='Ann 4'!#REF! -> #REF! | F6: ='Ann 4'!#REF! -> #REF! | G6: ='Ann 4'!#REF! -> #REF! | H6: ='Ann 4'!#REF! -> #REF! | I6: ='Ann 4'!#REF! -> #REF! | J6: ='Ann 4'!#REF! -> #REF! | K6: ='Ann 4'!#REF! -> #REF!
A7: Direct Expenses

Sheet Ann 13
A1: Annexure 13 - Repayment schedule
A3: Repayment schedule
A4: Amount of Loan (in lakhs) | D4: ='Ann 2'!C6 -> 152.5
A5: Amount of subsidy (in lakhs) | D5: =35%*('Ann 1'!C41-'Ann 1'!C25) -> 61.25
A6: Rate of interest | D6: 0.06
A7: Moratorium period | D7: 6 months
A9: Year | B9: Quarter | C9: Balance outstanding | D9: Principal instalment | E9: Interest
A10: 1 | B10: 1 | C10: =$D$4 -> 152.5 | D10: 0 | E10: =C10*$D$6/4 -> 2.2875
B11: 2 | C11: =$D$4 -> 152.5 | D11: 0 | E11: =C11*$D$6/4 -> 2.2875
B12: 3 | C12: =$D$4 -> 152.5 | D12: =D4/26 -> 5.8653846 | E12: =C12*$D$6/4 -> 2.2875
B13: 4 | C13: =C12-D12 -> 146.63462 | D13: =D12 -> 5.8653846 | E13: =C13*$D$6/4 -> 2.1995192
A14: 2 | B14: 1 | C14: =C13-D13 -> 140.76923 | D14: =D13 -> 5.8653846 | E14: =C14*$D$6/4 -> 2.1115385
B15: 2 | C15: =C14-D14 -> 134.90385 | D15: =D14 -> 5.8653846 | E15: =C15*$D$6/4 -> 2.0235577
B16: 3 | C16: =C15-D15 -> 129.03846 | D16: =D15 -> 5.8653846 | E16: =C16*$D$6/4 -> 1.9355769
B17: 4 | C17: =C16-D16 -> 123.17308 | D17: =D16 -> 5.8653846 | E17: =C17*$D$6/4 -> 1.8475962
A18: 3 | B18: 1 | C18: =C17-D17 -> 117.30769 | D18: =D17 -> 5.8653846 | E18: =C18*$D$6/4 -> 1.7596154
B19: 2 | C19: =C18-D18 -> 111.44231 | D19: =D18 -> 5.8653846 | E19: =C19*$D$6/4 -> 1.6716346
B20: 3 | C20: =C19-D19 -> 105.57692 | D20: =D19 -> 5.8653846 | E20: =C20*$D$6/4 -> 1.5836538
B21: 4 | C21: =C20-D20 -> 99.711538 | D21: =D20 -> 5.8653846 | E21: =C21*$D$6/4 -> 1.4956731
A22: 4 | B22: 1 | C22: =C21-D21 -> 93.846154 | D22: =D21 -> 5.8653846 | E22: =C22*$D$6/4 -> 1.4076923
B23: 2 | C23: =C22-D22 -> 87.980769 | D23: =D22 -> 5.8653846 | E23: =C23*$D$6/4 -> 1.3197115
B24: 3 | C24: =C23-D23 -> 82.115385 | D24: =D23 -> 5.8653846 | E24: =C24*$D$6/4 -> 1.2317308
B25: 4 | C25: =C24-D24 -> 76.25 | D25: =D24 -> 5.8653846 | E25: =C25*$D$6/4 -> 1.14375
A26: 5 | B26: 1 | C26: =C25-D25 -> 70.384615 | D26: =D25 -> 5.8653846 | E26: =C26*$D$6/4 -> 1.0557692
B27: 2 | C27: =C26-D26 -> 64.519231 | D27: 3.2692308 | E27: =C27*$D$6/4 -> 0.96778846
B28: 3 | C28: =C27-D27 -> 61.25 | D28: 0 | E28: 0 | F28: Repaid via subsidy
B29: 4 | C29: 0 | D29: =D28 -> 0 | E29: 0
A30: 6 | B30: 1 | C30: 0 | D30: =D29 -> 0 | E30: 0
B31: 2 | C31: 0 | D31: =D30 -> 0 | E31: 0
B32: 3 | C32: 0 | D32: =D31 -> 0 | E32: 0
B33: 4 | C33: 0 | D33: =D32 -> 0 | E33: 0
A34: 7 | B34: 1 | C34: 0 | D34: =D33 -> 0 | E34: 0
B35: 2 | C35: 0 | D35: =D34 -> 0 | E35: 0
B36: 3 | C36: 0 | D36: =D35 -> 0 | E36: 0
B37: 4 | C37: 0 | D37: =D36 -> 0 | E37: 0
A39: In case of Capital subsidy, the amount vary depending on location of unit and scheme offered by the government at that time. Thus it is assumed here that 35% of cost of project(Rs. 61.25 lakhs)is sourced through back end subsidy.
A40: The amount Rs. 61.25 lakhs is sourced by Government subsidy. Since this is a back end subsidy, the amount is funded to bank at the end of repayment schedule.
A41: Subsidy is available maximum 35%

Sheet Ann 14
A1: Annexure 14 - Cash flow statement
A3: Particulars | B3: 0 | C3: I | D3: II | E3: III | F3: IV | G3: V | H3: VI | I3: VII | J3: VIII | K3: IX
A4: opening balance | B4: ='Ann 2'!C7*100000 -> 5000000 | C4: =B21 -> 5000000 | D4: =C21 -> 7142916.1 | E4: =D21 -> 7207285.3 | F4: =E21 -> 7652860.1 | G4: =F21 -> 8027727.5 | H4: =G21 -> 4917152.6 | I4: =H21 -> 9309316.6 | J4: =I21 -> 13784818 | K4: =J21 -> 18360452
A5: Add: Capital | B5: ='Ann 5'!C18 -> 2250000 | C5: 0 | D5: 0 | E5: 0 | F5: 0 | G5: 0 | H5: 0 | I5: 0 | J5: 0 | K5: 0
A6: Add: Loan disbursement | B6: ='Ann 2'!C6*100000 -> 15250000 | C6: 0 | D6: 0 | E6: 0 | F6: 0 | G6: 0 | H6: 0 | I6: 0 | J6: 0 | K6: 0
A7: Less: Purchase of asset | B7: ='Ann 9'!F9*100000 -> 17400000 | C7: 0 | D7: 0 | E7: 0 | F7: 0 | G7: 0 | H7: 0 | I7: 0 | J7: 0 | K7: 0
A8: Less: Land purchase | B8: ='Ann 1'!C8*100000 -> 0
A9: Add: Sales realizations | C9: ='Ann 4'!C23-'Ann 5'!C12 -> 59573664 | D9: ='Ann 4'!D23-'Ann 5'!D12 -> 70991950 | E9: ='Ann 4'!E23-'Ann 5'!E12 -> 76452869 | F9: ='Ann 4'!F23-'Ann 5'!F12 -> 81913788 | G9: ='Ann 4'!G23-'Ann 5'!G12 -> 87374707 | H9: ='Ann 4'!H23-'Ann 5'!H12 -> 92835626 | I9: ='Ann 4'!I23-'Ann 5'!I12 -> 98296546 | J9: ='Ann 4'!J23-'Ann 5'!J12 -> 1.0375746e+08 | K9: ='Ann 4'!K23-'Ann 5'!K12 -> 109218384
A10: Less: Payment made to creditors of previos year | B10: 0 | C10: 0 | D10: ='Ann 5'!C24 -> 15585829 | E10: ='Ann 5'!D24 -> 17970899 | F10: ='Ann 5'!E24 -> 19353276 | G10: ='Ann 5'!F24 -> 20735652 | H10: ='Ann 5'!G24 -> 22118029 | I10: ='Ann 5'!H24 -> 23500406 | J10: ='Ann 5'!I24 -> 24882783 | K10: ='Ann 5'!J24 -> 26265160
A11: Add: Receipts from debtors of previos year | B11: 0 | C11: 0 | D11: ='Ann 5'!C12 -> 14893416 | E11: ='Ann 5'!D12 -> 17747987 | F11: ='Ann 5'!E12 -> 19113217 | G11: ='Ann 5'!F12 -> 20478447 | H11: ='Ann 5'!G12 -> 21843677 | I11: ='Ann 5'!H12 -> 23208907 | J11: ='Ann 5'!I12 -> 24574136 | K11: ='Ann 5'!J12 -> 25939366
A12: Less: Payments made for current year purchase | B12: 0 | C12: ='Ann 4'!C11+'Ann 4'!C20-'Ann 5'!C24 -> 50015047 | D12: ='Ann 4'!D11+'Ann 4'!D20-'Ann 5'!D24 -> 57113494 | E12: ='Ann 4'!E11+'Ann 4'!E20-'Ann 5'!E24 -> 61261801 | F12: ='Ann 4'!F11+'Ann 4'!F20-'Ann 5'!F24 -> 65427505 | G12: ='Ann 4'!G11+'Ann 4'!G20-'Ann 5'!G24 -> 69611475 | H12: ='Ann 4'!H11+'Ann 4'!H20-'Ann 5'!H24 -> 73814625 | I12: ='Ann 4'!I11+'Ann 4'!I20-'Ann 5'!I24 -> 78037913 | J12: ='Ann 4'!J11+'Ann 4'!J20-'Ann 5'!J24 -> 82282347 | K12: ='Ann 4'!K11+'Ann 4'!K20-'Ann 5'!K24 -> 86548983
A13: Less: Pre incorporation expense | B13: ='Ann 4'!C32 -> 100000 | C13: 0 | D13: 0 | E13: 0 | F13: 0 | G13: 0 | H13: 0 | I13: 0 | J13: 0 | K13: 0
A14: Less: Interest payments | B14: 0 | C14: ='Ann 4'!C29 -> 1406201.9 | D14: ='Ann 4'!D29 -> 1291826.9 | E14: ='Ann 4'!E29 -> 1151057.7 | F14: ='Ann 4'!F29 -> 1010288.5 | G14: ='Ann 4'!G29 -> 702355.77 | H14: ='Ann 4'!H29 -> 500000 | I14: ='Ann 4'!I29 -> 500000 | J14: ='Ann 4'!J29 -> 500000 | K14: ='Ann 4'!K29 -> 500000
B15: =B4+B5+B6-B7-B8-B13 -> 5000000 | C15: =C4+C9-C10+C11-C12-C14+C5+C6-C7 -> 13152415 | D15: =D4+D9-D10+D11-D12-D14+D5+D6-D7 -> 19037132 | E15: =E4+E9-E10+E11-E12-E14+E5+E6-E7 -> 21024384 | F15: =F4+F9-F10+F11-F12-F14+F5+F6-F7 -> 22888796 | G15: =G4+G9-G10+G11-G12-G14+G5+G6-G7 -> 24831398 | H15: =H4+H9-H10+H11-H12-H14+H5+H6-H7 -> 23163801 | I15: =I4+I9-I10+I11-I12-I14+I5+I6-I7 -> 28776450 | J15: =J4+J9-J10+J11-J12-J14+J5+J6-J7 -> 34451289 | K15: =K4+K9-K10+K11-K12-K14+K5+K6-K7 -> 40204059
A16: Less: Income tax | B16: 0 | C16: ='Ann 4'!C36 -> 1715031 | D16: ='Ann 4'!D36 -> 3308264.9 | E16: ='Ann 4'!E36 -> 3846059.2 | F16: ='Ann 4'!F36 -> 4365667.9 | G16: ='Ann 4'!G36 -> 4918878.1 | H16: ='Ann 4'!H36 -> 4832959.8 | I16: ='Ann 4'!I36 -> 5229639 | J16: ='Ann 4'!J36 -> 5613082.7 | K16: ='Ann 4'!K36 -> 5983977.4
B17: 0 | C17: =C15-C16 -> 11437384 | D17: =D15-D16 -> 15728867 | E17: =E15-E16 -> 17178325 | F17: =F15-F16 -> 18523128 | G17: =G15-G16 -> 19912520 | H17: =H15-H16 -> 18330842 | I17: =I15-I16 -> 23546811 | J17: =J15-J16 -> 28838207 | K17: =K15-K16 -> 34220082
A18: Less: Distrubutions made from profits | B18: 0 | C18: ='Ann 4'!C38 -> 3121391.2 | D18: ='Ann 4'!D38 -> 6175427.7 | E18: ='Ann 4'!E38 -> 7179310.5 | F18: ='Ann 4'!F38 -> 8149246.8 | G18: ='Ann 4'!G38 -> 14081906 | H18: ='Ann 4'!H38 -> 9021525 | I18: ='Ann 4'!I38 -> 9761992.8 | J18: ='Ann 4'!J38 -> 10477754 | K18: ='Ann 4'!K38 -> 11170091
B19: 0 | C19: =C17-C18 -> 8315993 | D19: =D17-D18 -> 9553439.1 | E19: =E17-E18 -> 9999014 | F19: =F17-F18 -> 10373881 | G19: =G17-G18 -> 5830614.1 | H19: =H17-H18 -> 9309316.6 | I19: =I17-I18 -> 13784818 | J19: =J17-J18 -> 18360452 | K19: =K17-K18 -> 23049991
A20: Less: Principal repayment of loan | B20: 0 | C20: =SUM('Ann 13'!D10:D13)*100000 -> 1173076.9 | D20: =SUM('Ann 13'!D14:D17)*100000 -> 2346153.8 | E20: =SUM('Ann 13'!D18:D21)*100000 -> 2346153.8 | F20: =SUM('Ann 13'!D22:D25)*100000 -> 2346153.8 | G20: =SUM('Ann 13'!D26:D29)*100000 -> 913461.54 | H20: =SUM('Ann 13'!D30:D33)*100000 -> 0 | I20: =SUM('Ann 13'!D34:D37)*100000 -> 0 | J20: 0 | K20: 0
A21: Closing cash balance | B21: =B4+B5+B6-B7-B13-B8 -> 5000000 | C21: =C19-C20 -> 7142916.1 | D21: =D19-D20 -> 7207285.3 | E21: =E19-E20 -> 7652860.1 | F21: =F19-F20 -> 8027727.5 | G21: =G19-G20 -> 4917152.6 | H21: =H19-H20 -> 9309316.6 | I21: =I19-I20 -> 13784818 | J21: =J19-J20 -> 18360452 | K21: =K19-K20 -> 23049991
A23: PV dicounting rate | B23: 0.06
A24: PVF | B24: 1 | C24: =1/(1+$B$23) -> 0.94339623 | D24: =1/((1+$B$23)*(1+$B$23)) -> 0.88999644 | E24: =1/((1+$B$23)*(1+$B$23)*(1+$B$23)) -> 0.83961928 | F24: =1/((1+$B$23)*(1+$B$23)*(1+$B$23)*(1+$B$23)) -> 0.79209366 | G24: =1/((1+$B$23)*(1+$B$23)*(1+$B$23)*(1+$B$23)*(1+$B$23)) -> 0.74725817 | H24: =1/((1+$B$23)*(1+$B$23)*(1+$B$23)*(1+$B$23)*(1+$B$23)*(1+$B$23)) -> 0.70496054 | I24: =1/((1+$B$23)*(1+$B$23)*(1+$B$23)*(1+$B$23)*(1+$B$23)*(1+$B$23)*(1+$B$23)) -> 0.66505711 | J24: =1/((1+$B$23)*(1+$B$23)*(1+$B$23)*(1+$B$23)*(1+$B$23)*(1+$B$23)*(1+$B$23)*(1+$B$23)) -> 0.62741237 | K24: =1/((1+$B$23)*(1+$B$23)*(1+$B$23)*(1+$B$23)*(1+$B$23)*(1+$B$23)*(1+$B$23)*(1+$B$23)*(1+$B$23)) -> 0.59189846
A25: Inflows | B25: =B4+B9+B11+B5+B6 -> 22500000 | C25: =C4+C9+C11+C5+C6 -> 64573664 | D25: =D4+D9+D11 -> 93028282 | E25: =E4+E9+E11 -> 1.0140814e+08 | F25: =F4+F9+F11 -> 1.0867987e+08 | G25: =G4+G9+G11 -> 1.1588088e+08 | H25: =H4+H9+H11 -> 1.1959646e+08 | I25: =I4+I9+I11 -> 1.3081477e+08 | J25: =J4+J9+J11 -> 1.4211642e+08 | K25: =K4+K9+K11 -> 1.535182e+08
A26: PV of Inflows | B26: =B25*B24 -> 22500000 | C26: =C25*C24 -> 60918551 | D26: =D25*D24 -> 82794840 | E26: =E25*E24 -> 85144231 | F26: =F25*F24 -> 86084633 | G26: =G25*G24 -> 86592936 | H26: =H25*H24 -> 84310782 | I26: =I25*I24 -> 86999293 | ... K26: =K25*K24 -> 90867188
A27: Outflows | B27: =B10+B12+B14+B16+B18+B20+B7+B13+B8 -> 17500000 | C27: =C10+C12+C14+C16+C18+C20+C7+C13 -> 57430748 | D27: =D10+D12+D14+D16+D18+D20+D7+D13 -> 85820996 | E27: =E10+E12+E14+E16+E18+E20+E7+E13 -> 93755281 | F27: =F10+F12+F14+F16+F18+F20+F7+F13 -> 1.0065214e+08 | G27: =G10+G12+G14+G16+G18+G20+G7+G13 -> 1.1096373e+08 | H27: =H10+H12+H14+H16+H18+H20+H7+H13 -> 1.1028714e+08 | I27: =I10+I12+I14+I16+I18+I20+I7+I13 -> 1.1702995e+08 | J27: =J10+J12+J14+J16+J18+J20+J7+J13 -> 1.2375597e+08 | K27: =K10+K12+K14+K16+K18+K20+K7+K13 -> 1.3046821e+08
A28: PV of Outflows | B28: =B27*B24 -> 17500000 | C28: =C27*C24 -> 54179951 | D28: =D27*D24 -> 76380381 | E28: =E27*E24 -> 78718742 | F28: =F27*F24 -> 79725921 | G28: =G27*G24 -> 82918553 | H28: =H27*H24 -> 77748081 | I28: =I27*I24 -> 77831601 | ... K28: =K27*K24 -> 77223934
A30: Net cash inflow | B30: =B25-B27 -> 5000000 | C30: =C25-C27 -> 7142916.1 | D30: =D25-D27 -> 7207285.3 | E30: =E25-E27 -> 7652860.1 | F30: =F25-F27 -> 8027727.5 | G30: =G25-G27 -> 4917152.6 | H30: =H25-H27 -> 9309316.6 | I30: =I25-I27 -> 13784818 | ... K30: =K25-K27 -> 23049991
A31: Net Present value | B31: =B26-B28 -> 5000000 | C31: =C30*C24 -> 6738600.1 | D31: =D30*D24 -> 6414458.3 | E31: =E30*E24 -> 6425488.9 | F31: =F30*F24 -> 6358712.1 | G31: =G30*G24 -> 3674382.4 | H31: =H30*H24 -> 6562700.9 | I31: =I30*I24 -> 9167691.1 | J31: =J30*J24 -> 11519575 | K31: =K30*K24 -> 13643254 | L31: =SUM(C31:K31) -> 70504863

Sheet Budgets
A1: Sales Budget
A2: Particulars | B2: Year ending March 31st
B3: I | C3: II | D3: III | E3: IV | F3: V | G3: VI | H3: VII | I3: VIII | J3: IX
A4: Estimated ocupational capacity | B4: 0.6 | C4: 0.65 | D4: 0.7 | E4: 0.75 | F4: 0.8 | G4: 0.85 | H4: 0.9 | I4: 0.95 | J4: 1
A5: Production capacity (kgs) | B5: =$B$14*B4 -> 5225760 | C5: =$B$14*C4 -> 5661240 | D5: =$B$14*D4 -> 6096720 | E5: =$B$14*E4 -> 6532200 | F5: =$B$14*F4 -> 6967680 | G5: =$B$14*G4 -> 7403160 | H5: =$B$14*H4 -> 7838640 | I5: =$B$14*I4 -> 8274120 | J5: =$B$14*J4 -> 8709600
A6: Own produce (kgs) | B6: =B5*2/3 -> 3483840 | C6: =C5*2/3 -> 3774160 | D6: =D5*2/3 -> 4064480 | E6: =E5*2/3 -> 4354800 | F6: =F5*2/3 -> 4645120 | G6: =G5*2/3 -> 4935440 | H6: =H5*2/3 -> 5225760 | I6: =I5*2/3 -> 5516080 | J6: =J5*2/3 -> 5806400
A7: Consumer produce (kgs) | B7: =B5-B6 -> 1741920 | C7: =C5-C6 -> 1887080 | D7: =D5-D6 -> 2032240 | E7: =E5-E6 -> 2177400 | F7: =F5-F6 -> 2322560 | G7: =G5-G6 -> 2467720 | H7: =H5-H6 -> 2612880 | I7: =I5-I6 -> 2758040 | J7: =J5-J6 -> 2903200
A8: Revenue from sale of own produce | B8: =B6*$C$18 -> 73160640 | C8: =C6*$C$18*1.1 -> 87183096 | D8: =D6*$C$18*1.1 -> 93889488 | E8: =E6*$C$18*1.1 -> 1.0059588e+08 | F8: =F6*$C$18*1.1 -> 1.0730227e+08 | G8: =G6*$C$18*1.1 -> 1.1400866e+08 | H8: =H6*$C$18*1.1 -> 1.2071506e+08 | I8: =I6*$C$18*1.1 -> 1.2742145e+08 | J8: =J6*$C$18*1.1 -> 1.3412784e+08
A9: Revenue from processing consumer produce | B9: =B7*$E$18 -> 1306440 | C9: =C7*$E$18*1.1 -> 1556841 | D9: =D7*$E$18*1.1 -> 1676598 | E9: =E7*$E$18*1.1 -> 1796355 | F9: =F7*$E$18*1.1 -> 1916112 | G9: =G7*$E$18*1.1 -> 2035869 | H9: =H7*$E$18*1.1 -> 2155626 | I9: =I7*$E$18*1.1 -> 2275383 | J9: =J7*$E$18*1.1 -> 2395140
A10: Total revenue | B10: =B9+B8 -> 74467080 | C10: =C9+C8 -> 88739937 | D10: =D9+D8 -> 95566086 | E10: =E9+E8 -> 1.0239224e+08 | F10: =F9+F8 -> 1.0921838e+08 | G10: =G9+G8 -> 1.1604453e+08 | H10: =H9+H8 -> 1.2287068e+08 | I10: =I9+I8 -> 1.2969683e+08 | J10: =J9+J8 -> 136522980
A12: Estimation of Production capacity
A14: Per annum capacity in kgs | B14: =3629*8*300 -> 8709600 | C14: Production is 4 ton per hour
A15: Operational days | B15: 300 days
A17: Products | B17: Production at 100% capacity | C17: sales prices per kg | D17: purchase price per kg | E17: Processing charges for grain
A18: Output | B18: =B14 -> 8709600 | C18: 21 | D18: 18.5 | E18: 0.75
A20: Production Budget | B20: Year ending March 31st
B21: I | C21: II | D21: III | E21: IV | F21: V | G21: VI | H21: VII | I21: VIII | J21: IX
A22: Opening Stock | B22: 0 | C22: =B25 -> 34838.4 | D22: =C25 -> 72580 | E22: =D25 -> 113224.8 | F22: =E25 -> 156772.8 | G22: =F25 -> 203224 | H22: =G25 -> 153869.6 | I22: =H25 -> 101612 | J22: =I25 -> 46451.2
A23: Production | B23: =B6 -> 3483840 | C23: =C6 -> 3774160 | D23: =D6 -> 4064480 | E23: =E6 -> 4354800 | F23: =F6 -> 4645120 | G23: =G6 -> 4935440 | H23: =H6 -> 5225760 | I23: =I6 -> 5516080 | J23: =J6 -> 5806400
A24: Sales | B24: =B6*99% -> 3449001.6 | C24: =C6*99% -> 3736418.4 | D24: =D6*99% -> 4023835.2 | E24: =E6*99% -> 4311252 | F24: =F6*99% -> 4598668.8 | G24: =G6*101% -> 4984794.4 | H24: =H6*101% -> 5278017.6 | I24: =I6*101% -> 5571240.8 | J24: =J6*101% -> 5864464
A25: Closing Stock | B25: =B22+B23-B24 -> 34838.4 | C25: =C22+C23-C24 -> 72580 | D25: =D22+D23-D24 -> 113224.8 | E25: =E22+E23-E24 -> 156772.8 | F25: =F22+F23-F24 -> 203224 | G25: =G22+G23-G24 -> 153869.6 | H25: =H22+H23-H24 -> 101612 | I25: =I22+I23-I24 -> 46451.2 | J25: =J22+J23-J24 -> -11612.8
A27: It is assumed that 2/3rd capacity of flour mill is used to process own produce, i.e., to process wheat grains into flour which is further sold by mill in the market. The balance 1/3rd capacity is used to process the the consumer produce, for processing the wheat grain brought by the consumer for processing.
A28: In case of processing own produce, wheat grains is procured from farmers and processed for selling. While for government produce, wheat grains are provided to mill for further processing and only processing charges are taken for such work.
A29: Sales price per kg is Rs. 22 (considering single type of output flour) which will increase 10% annually

Sheet For word file
B2: I | C2: II | D2: III | E2: IV | F2: V | G2: VI | H2: VII | I2: VIII | J2: IX
A3: Turnover | B3: ='Ann 4'!C23/100000 -> 744.6708 | C3: ='Ann 4'!D23/100000 -> 887.39937 | D3: ='Ann 4'!E23/100000 -> 955.66086 | E3: ='Ann 4'!F23/100000 -> 1023.9224 | F3: ='Ann 4'!G23/100000 -> 1092.1838 | G3: ='Ann 4'!H23/100000 -> 1160.4453 | H3: ='Ann 4'!I23/100000 -> 1228.7068 | I3: ='Ann 4'!J23/100000 -> 1296.9683 | J3: ='Ann 4'!K23/100000 -> 1365.2298
A4: Cost Of operations | B4: ='Ann 4'!C22/100000 -> 649.04108 | C4: ='Ann 4'!D22/100000 -> 743.29561 | D4: ='Ann 4'!E22/100000 -> 798.02181 | E4: ='Ann 4'!F22/100000 -> 852.92198 | F4: ='Ann 4'!G22/100000 -> 908.00481 | G4: ='Ann 4'!H22/100000 -> 983.02119 | H4: ='Ann 4'!I22/100000 -> 1039.6585 | I4: ='Ann 4'!J22/100000 -> 1096.5072 | J4: ='Ann 4'!K22/100000 -> 1153.578
A5: Gross profit | B5: =B3-B4 -> 95.62972 | C5: =C3-C4 -> 144.10376 | D5: =D3-D4 -> 157.63905 | E5: =E3-E4 -> 171.00037 | F5: =F3-F4 -> 184.17903 | G5: =G3-G4 -> 177.42414 | H5: =H3-H4 -> 189.04834 | I5: =I3-I4 -> 200.46108 | J5: =J3-J4 -> 211.6518
A6: EBITDA | B6: =B5 -> 95.62972 | C6: =C5 -> 144.10376 | D6: =D5 -> 157.63905 | E6: =E5 -> 171.00037 | F6: =F5 -> 184.17903 | G6: =G5 -> 177.42414 | H6: =H5 -> 189.04834 | I6: =I5 -> 200.46108 | J6: =J5 -> 211.6518
A7: Profit before tax | B7: ='Ann 4'!C35/100000 -> 56.167701 | C7: ='Ann 4'!D35/100000 -> 110.2755 | D7: ='Ann 4'!E35/100000 -> 128.20197 | E7: ='Ann 4'!F35/100000 -> 145.52226 | F7: ='Ann 4'!G35/100000 -> 225.2126 | G7: ='Ann 4'!H35/100000 -> 161.09866 | H7: ='Ann 4'!I35/100000 -> 174.3213 | I7: ='Ann 4'!J35/100000 -> 187.10276 | J7: ='Ann 4'!K35/100000 -> 199.46591
A8: Profit after tax | B8: ='Ann 4'!C37/100000 -> 39.017391 | C8: ='Ann 4'!D37/100000 -> 77.192847 | D8: ='Ann 4'!E37/100000 -> 89.741382 | E8: ='Ann 4'!F37/100000 -> 101.86558 | F8: ='Ann 4'!G37/100000 -> 176.02382 | G8: ='Ann 4'!H37/100000 -> 112.76906 | H8: ='Ann 4'!I37/100000 -> 122.02491 | I8: ='Ann 4'!J37/100000 -> 130.97193 | J8: ='Ann 4'!K37/100000 -> 139.62614

Sheet Assumptions
A1: S. no. | B1: Assumptions
A2: 1 | B2: Electricity are semi-fixed cost. Rs. 250,000 pa is fixed, balance is variable at Rs. 14 per unit usage
A3: 2 | B3: Electricity usage in units is given below
C4: Usage in units | D4: 80000 | E4: =D4*1.05 -> 84000 | F4: =E4*1.05 -> 88200 | G4: =F4*1.05 -> 92610 | H4: =G4*1.05 -> 97240.5 | I4: =H4*1.05 -> 102102.53 | J4: =I4*1.05 -> 107207.65 | K4: =J4*1.05 -> 112568.03 | L4: =K4*1.05 -> 118196.44
C5: Variable cost | D5: =D4*14 -> 1120000 | E5: =E4*14 -> 1176000 | F5: =F4*14 -> 1234800 | G5: =G4*14 -> 1296540 | H5: =H4*14 -> 1361367 | I5: =I4*14 -> 1429435.4 | J5: =J4*14 -> 1500907.1 | K5: =K4*14 -> 1575952.5 | L5: =L4*14 -> 1654750.1
A6: 3 | B6: Asssumed that 90 days of purchases are average creditors maintained
A7: 4 | B7: Assumed that 60 days of sales are average debtors maintained by the business
A8: 5 | B8: It is assumed that insuarance cost is 2% of purchase price and this will increase 5% annually

Sheet Sheet1
A1: cash flow statement
C2: I | D2: II | E2: III | F2: IV | G2: V | H2: VI | I2: VII | J2: VIII | K2: IX
A3: Sales realized | C3: ='Ann 4'!C23/300*270 -> 67020372 | D3: ='Ann 4'!D23/300*270 -> 79865943 | E3: ='Ann 4'!E23/300*270 -> 86009477 | F3: ='Ann 4'!F23/300*270 -> 92153012 | G3: ='Ann 4'!G23/300*270 -> 98296546 | H3: ='Ann 4'!H23/300*270 -> 1.0444008e+08 | I3: ='Ann 4'!I23/300*270 -> 1.1058361e+08 | J3: ='Ann 4'!J23/300*270 -> 1.1672715e+08 | K3: ='Ann 4'!K23/300*270 -> 122870682
A4: Term loan | C4: 5000000
A5: assisstance | C5: 21492978
A7: less- Purchase of assets | C7: ='Ann 3'!E21 -> 17400000
