Workbook

Sheet Contents
A1: Contents Table
A3: Contents | B3: Link
A4: ='[1]Ann 1'!A3 -> Annexure 1 - Estimated cost of the project | B4: Ann 1'!A1
A5: ='[1]Ann 2'!A1 -> Annexure 2 - Means of Finance | B5: Ann 2'!A1
A6: ='Ann 3'!A1 -> Annexure 3 - Complete Estimate of Civil and Plant and Machinery | B6: Ann 3'!A1
A7: ='[1]Ann 4'!A1 -> Annexure 4 - Estimated Cost of Production | B7: Ann 4'!A1
A8: ='[1]Ann 5'!A1 -> Annexure 5- Projected balance sheet | B8: Ann 5'!A1
A9: ='Ann 8'!A1 -> Annexure 8 - Details of Mnpower | B9: Ann 8'!A1
A10: ='Ann 9'!A1 -> Annexure 9 - Computation of Depreciation | B10: Ann 9'!A1
A11: ='Ann 10'!A1 -> Annexure 10 - Calculation of Income tax | B11: Ann 10'!A1
A12: ='[1]Ann 11'!A1 -> Annexure 11- Break even analysis (At maximum capacity utilization) | B12: Ann 11'!A1
A13: ='Ann 13'!A1 -> Annexure 13 - Repayment schedule | B13: Ann 13'!A1
A14: ='Ann 14'!A1 -> Annexure 14 - Cash flow statement | B14: Ann 14'!A1
A15: =[1]Assumptions!B1 -> Assumptions | B15: Assumptions!A1
A16: =[1]Budgets!A1 -> Sales Budget | B16: Budgets!A1

Sheet Ann 1
A1: DPR with subsidy
A3: Annexure 1 - Estimated cost of the project
A5: Estimated cost of project
A6: Sr. No. | B6: Particulars | C6: Grand Total (in lakhs)
A7: 1 | B7: Land and site development
A8: (a) | B8: Land (Lease in name of company) | C8: =(750*200)/100000 -> 1.5
B9: Total | C9: =SUM(C8) -> 1.5
A11: 2 | B11: Site Development | C11: 0
A12: (a) | B12: Total | C12: =C11 -> 0
A14: 3 | B14: Civil Work
A15: (a) | B15: Civil Work | C15: 5
B16: Total | C16: =C15 -> 5
A18: 4 | B18: Plant and Machinery (indegenous)
A19: (a) | B19: Plant and Machinery | C19: ='Ann 3'!E17/100000 -> 85
B20: Total | C20: =C19 -> 85
A22: 5 | B22: Miscellanoeus Fixed Assets
A23: (a) | B23: Cost | C23: ='Ann 3'!E19/100000 -> 3.78
A25: 6 | B25: Working Capital Margin | C25: 5.585
A27: 7 | B27: Preliminary Expenses | C27: 0
A28: (a) | B28: Security Deposit | C28: 0
B29: Total
A31: 8 | B31: Pre-Operative Expense
B32: (for 6 months upto the date od commencement of commercial production)
A33: (a) | B33: Establisment and Travelling and Other Expenses
A34: (b) | B34: Legal and Misc Expense | C34: 2
B35: Total | C35: =SUM(C33:C34) -> 2
A37: 9 | B37: Service Centre Infrastructure | C37: 0
A39: 10 | B39: Contingencies | C39: 1.135
B41: Total Cost of Project | C41: =C35+C27+C25+C20+C16+C23+C37+C12+C9+C39 -> 104

Sheet Ann 2
A1: Annexure 2 - Means of Finance
A3: Sr. No. | B3: Item | C3: Grand Total (in lakhs)
A4: 1 | B4: Promoter's equity
B5: Land | C5: ='Ann 1'!C9 -> 1.5
B6: Project Margin | C6: =C10*10% -> 10.4
A7: 2 | B7: Eligible Assistance | C7: 0
A8: 3 | B8: Term Loan | C8: =C10-C5-C9-C6 -> 86.515
A9: 4 | B9: CC Limit | C9: ='Ann 1'!C25 -> 5.585
B10: Total | C10: ='Ann 1'!C41 -> 104

Sheet Ann 3
A1: Annexure 3 - Complete Estimate of Civil and Plant and Machinery
A3: 1. Civil Work | C3: Units | E3: Amt
A4: 1 | B4: Civil work for building | C4: 1 | E4: ='Ann 1'!C15*100000 -> 500000
A5: Total Civil Work | E5: =SUM(E4:E4) -> 500000
A7: 2. Plant and machinery | C7: Units | E7: Amt
A8: 1 | B8: Butterfly separator | C8: 1 | E8: 8500000
A9: 2 | B9: Destoner | C9: 1
A10: 3 | B10: Paddy dehusker | C10: 1
A11: 4 | B11: Rubber sheller | C11: 1
A12: 5 | B12: Rice whitener | C12: 1
A13: 6 | B13: Rice drum grader | C13: 1
A14: 7 | B14: Bucket elevator | C14: 1
A15: 8 | B15: Weighing machine at platform | C15: 1
A16: 9 | B16: Form fill and seal machine | C16: 1
A17: Total Plant and Machinery | E17: =SUM(E8:E16) -> 8500000
A19: 3. Miscellanoeus Fixed Asset | E19: 378000
A21: Total fixed Assets | E21: =E17+E5+E19 -> 9378000

Sheet Ann 4
A1: Annexure 4 - Estimated Cost of Production
A3: Sr. No | B3: Description | C3: Year ending March 31st
C4: I | D4: II | E4: III | F4: IV | G4: V | H4: VI | I4: VII | J4: VIII | K4: IX
B5: No of Working months | C5: 12 | D5: 12 | E5: 12 | F5: 12 | G5: 12 | H5: 12 | I5: 12 | J5: 12 | K5: 12
B7: Input paddy cost | C7: =Budgets!C10*Budgets!$E$21 -> 235094400 | D7: =Budgets!D10*Budgets!$E$21 -> 2.5188686e+08 | E7: =Budgets!E10*Budgets!$E$21 -> 2.6867931e+08 | F7: =Budgets!F10*Budgets!$E$21 -> 2.8547177e+08 | G7: =Budgets!G10*Budgets!$E$21 -> 3.0226423e+08 | H7: =Budgets!H10*Budgets!$E$21 -> 3.1905669e+08 | I7: =Budgets!I10*Budgets!$E$21 -> 3.3584914e+08 | J7: =Budgets!J10*Budgets!$E$21 -> 3.3584914e+08 | K7: =Budgets!K10*Budgets!$E$21 -> 3.3584914e+08
B8: Electricity expense | C8: =100000+C42 -> 600000 | D8: =100000+D42 -> 625000 | E8: =100000+E42 -> 651250 | F8: =100000+F42 -> 678812.5 | G8: =100000+G42 -> 707753.12 | H8: =100000+H42 -> 738140.78 | I8: =100000+I42 -> 770047.82 | J8: =100000+J42 -> 770047.82 | K8: =100000+K42 -> 770047.82
B9: Insurance cost @ 2% of purchase cost | C9: =2%*'Ann 3'!E17 -> 170000 | D9: =C9*1.05 -> 178500 | E9: =D9*1.05 -> 187425 | F9: =E9*1.05 -> 196796.25 | G9: =F9*1.05 -> 206636.06 | H9: =G9*1.05 -> 216967.87 | I9: =H9*1.05 -> 227816.26 | J9: =I9*1.05 -> 239207.07 | K9: =J9*1.05 -> 251167.43
B10: Running and Manintenance expense @10% of sales | C10: =C21*10% -> 26406761 | D10: =D21*10% -> 29435778 | E10: =E21*10% -> 31398163 | F10: =F21*10% -> 33360548 | G10: =G21*10% -> 35322934 | H10: =H21*10% -> 37285319 | I10: =I21*10% -> 39247704 | J10: =J21*10% -> 39247704 | K10: =K21*10% -> 39247704
B11: Cost of Production | C11: =SUM(C7:C10) -> 2.6227116e+08 | D11: =SUM(D7:D10) -> 2.8212614e+08 | E11: =SUM(E7:E10) -> 3.0091615e+08 | F11: =SUM(F7:F10) -> 3.1970793e+08 | G11: =SUM(G7:G10) -> 3.3850155e+08 | H11: =SUM(H7:H10) -> 3.5729711e+08 | I11: =SUM(I7:I10) -> 3.7609471e+08 | J11: =SUM(J7:J10) -> 3.761061e+08 | K11: =SUM(K7:K10) -> 3.7611806e+08
B12: Add: Opening Stock | C12: 0 | D12: =C13 -> 1950412.8 | E12: =D13 -> 4040140.8 | F12: =E13 -> 6269184 | G12: =F13 -> 8637542.4 | H12: =G13 -> 11145216 | I12: =H13 -> 8498227.2 | J12: =I13 -> 5711923.2 | K12: =J13 -> 2925619.2
B13: Less: Closing Stock | C13: =Budgets!C29*32 -> 1950412.8 | D13: =Budgets!D29*32 -> 4040140.8 | E13: =Budgets!E29*32 -> 6269184 | F13: =Budgets!F29*32 -> 8637542.4 | G13: =Budgets!G29*32 -> 11145216 | H13: =Budgets!H29*32 -> 8498227.2 | I13: =Budgets!I29*32 -> 5711923.2 | J13: =Budgets!J29*32 -> 2925619.2 | K13: =Budgets!K29*32 -> 139315.2
B14: Sub Total | C14: =C11+C12-C13 -> 260320748 | D14: =D11+D12-D13 -> 2.8003641e+08 | E14: =E11+E12-E13 -> 2.9868711e+08 | F14: =F11+F12-F13 -> 3.1733957e+08 | G14: =G11+G12-G13 -> 3.3599388e+08 | H14: =H11+H12-H13 -> 3.599441e+08 | I14: =I11+I12-I13 -> 3.7888101e+08 | J14: =J11+J12-J13 -> 3.7889241e+08 | K14: =K11+K12-K13 -> 3.7890437e+08
B16: Administrative salaries and wages | C16: ='Ann 8'!E14 -> 1603800 | D16: =1.05*C16 -> 1683990 | E16: =1.05*D16 -> 1768189.5 | F16: =1.05*E16 -> 1856599 | G16: =1.05*F16 -> 1949428.9 | H16: =1.05*G16 -> 2046900.4 | I16: =1.05*H16 -> 2149245.4 | J16: =1.05*I16 -> 2256707.7 | K16: =1.05*J16 -> 2369543
B17: Fixed charge for office | C17: 200000 | D17: 200000 | E17: 200000 | F17: 200000 | G17: 200000 | H17: 200000 | I17: 200000 | J17: 200000 | K17: 200000
B18: Total | C18: =SUM(C16:C17) -> 1803800 | D18: =SUM(D16:D17) -> 1883990 | E18: =SUM(E16:E17) -> 1968189.5 | F18: =SUM(F16:F17) -> 2056599 | G18: =SUM(G16:G17) -> 2149428.9 | H18: =SUM(H16:H17) -> 2246900.4 | I18: =SUM(I16:I17) -> 2349245.4 | J18: =SUM(J16:J17) -> 2456707.7 | K18: =SUM(K16:K17) -> 2569543
B20: Cost of Sales | C20: =C18+C14 -> 262124548 | D20: =D18+D14 -> 2.819204e+08 | E20: =E18+E14 -> 3.006553e+08 | F20: =F18+F14 -> 3.1939617e+08 | G20: =G18+G14 -> 3.3814331e+08 | H20: =H18+H14 -> 3.62191e+08 | I20: =I18+I14 -> 3.8123026e+08 | J20: =J18+J14 -> 3.8134911e+08 | K20: =K18+K14 -> 3.8147391e+08
B21: Expected sales revenue | C21: =Budgets!C13 -> 264067608 | D21: =Budgets!D13 -> 294357780 | E21: =Budgets!E13 -> 313981632 | F21: =Budgets!F13 -> 333605484 | G21: =Budgets!G13 -> 353229336 | H21: =Budgets!H13 -> 372853188 | I21: =Budgets!I13 -> 392477040 | J21: =Budgets!J13 -> 392477040 | K21: =Budgets!K13 -> 392477040
B22: Gross Profit | C22: =C21-C20 -> 1943060 | D22: =D21-D20 -> 12437383 | E22: =E21-E20 -> 13326333 | F22: =F21-F20 -> 14209315 | G22: =G21-G20 -> 15086029 | H22: =H21-H20 -> 10662186 | I22: =I21-I20 -> 11246780 | J22: =J21-J20 -> 11127927 | K22: =K21-K20 -> 11003131
B24: Financial expense
B25: Interest on Term Loan | C25: =SUM('Ann 13'!E10:E13)*100000 -> 514098.75 | D25: =SUM('Ann 13'!E14:E17)*100000 -> 449212.5 | E25: =SUM('Ann 13'!E18:E21)*100000 -> 369352.5 | F25: =SUM('Ann 13'!E22:E25)*100000 -> 289492.5 | G25: =SUM('Ann 13'!E26:E29)*100000 -> 114798.75 | H25: =SUM('Ann 13'!E30:E33)*100000 -> 0 | I25: =SUM('Ann 13'!E34:E37)*100000 -> 0 | J25: 0 | K25: 0
B26: Interest on WC Loan | C26: ='Ann 1'!$C$25*100000*10% -> 55850 | D26: ='Ann 1'!$C$25*100000*10% -> 55850 | E26: ='Ann 1'!$C$25*100000*10% -> 55850 | F26: ='Ann 1'!$C$25*100000*10% -> 55850 | G26: ='Ann 1'!$C$25*100000*10% -> 55850 | H26: ='Ann 1'!$C$25*100000*10% -> 55850 | I26: ='Ann 1'!$C$25*100000*10% -> 55850 | J26: ='Ann 1'!$C$25*100000*10% -> 55850 | K26: ='Ann 1'!$C$25*100000*10% -> 55850
B27: Total Financial expense | C27: =SUM(C25:C26) -> 569948.75 | D27: =SUM(D25:D26) -> 505062.5 | E27: =SUM(E25:E26) -> 425202.5 | F27: =SUM(F25:F26) -> 345342.5 | G27: =SUM(G25:G26) -> 170648.75 | H27: =SUM(H25:H26) -> 55850 | I27: =SUM(I25:I26) -> 55850 | J27: =SUM(J25:J26) -> 55850 | K27: =SUM(K25:K26) -> 55850
B29: Operating profits (PBT) | C29: =C22-C27 -> 1373111.2 | D29: =D22-D27 -> 11932320 | E29: =E22-E27 -> 12901131 | F29: =F22-F27 -> 13863972 | G29: =G22-G27 -> 14915381 | H29: =H22-H27 -> 10606336 | I29: =I22-I27 -> 11190930 | J29: =J22-J27 -> 11072077 | K29: =K22-K27 -> 10947281
B30: Preliminary Expense | C30: ='Ann 1'!C34*100000 -> 200000 | D30: 0 | E30: 0 | F30: 0 | G30: 0 | H30: 0 | I30: 0 | J30: 0 | K30: 0
B31: Other income - Subsidy for repayment of loan | C31: 0 | D31: 0 | E31: 0 | F31: 0 | G31: ='Ann 13'!D5*100000 -> 3640000
B32: depreciation | C32: ='Ann 9'!C12+'Ann 9'!D12+'Ann 9'!E12 -> 1374150 | D32: ='Ann 9'!C13+'Ann 9'!D13+'Ann 9'!E13 -> 1172985 | E32: ='Ann 9'!C14+'Ann 9'!D14+'Ann 9'!E14 -> 1001499 | F32: ='Ann 9'!C15+'Ann 9'!D15+'Ann 9'!E15 -> 855289.72 | G32: ='Ann 9'!C16+'Ann 9'!D16+'Ann 9'!E16 -> 730610.28 | H32: ='Ann 9'!C17+'Ann 9'!D17+'Ann 9'!E17 -> 624271.36 | I32: ='Ann 9'!C18+'Ann 9'!D18+'Ann 9'!E18 -> 533558.01 | J32: ='Ann 9'!C19+'Ann 9'!D19+'Ann 9'!E19 -> 456158.93 | K32: ='Ann 9'!C20+'Ann 9'!D20+'Ann 9'!E20 -> 390106.24
B33: Net Profit before Tax | C33: =C29-C30-C32 -> -201038.75 | D33: =D29-D30-D32 -> 10759335 | E33: =E29-E30-E32 -> 11899632 | F33: =F29-F30-F32 -> 13008683 | G33: =G29-G30-G32+G31 -> 17824770 | H33: =H29-H30-H32+H31 -> 9982064.3 | I33: =I29-I30-I32+I31 -> 10657372 | J33: =J29-J30-J32+J31 -> 10615918 | K33: =K29-K30-K32+K31 -> 10557175
B34: Income Tax/ savings on tax | C34: ='Ann 10'!B14 -> -311.625 | D34: ='Ann 10'!C14 -> 3227800.6 | E34: ='Ann 10'!D14 -> 3569889.5 | F34: ='Ann 10'!E14 -> 3902604.8 | G34: ='Ann 10'!F14 -> 4255431.1 | H34: ='Ann 10'!G14 -> 2994619.3 | I34: ='Ann 10'!H14 -> 3197211.5 | J34: ='Ann 10'!I14 -> 3184775.3 | K34: ='Ann 10'!J14 -> 3167152.4
B35: Profits after Tax | C35: =C33-C34 -> -200727.12 | D35: =D33-D34 -> 7531534.7 | E35: =E33-E34 -> 8329742.2 | F35: =F33-F34 -> 9106077.8 | G35: =G33-G34 -> 13569339 | H35: =H33-H34 -> 6987445 | I35: =I33-I34 -> 7460160.2 | J35: =J33-J34 -> 7431142.4 | K35: =K33-K34 -> 7390022.2
B36: Distribution of profits (40%) | C36: 0 | D36: =D35*40% -> 3012613.9 | E36: =E35*40% -> 3331896.9 | F36: =F35*40% -> 3642431.1 | G36: =G35*40% -> 5427735.7 | H36: =H35*40% -> 2794978 | I36: =I35*40% -> 2984064.1 | J36: =J35*40% -> 2972456.9 | K36: =K35*40% -> 2956008.9
B37: Profit transfer to balance sheet | C37: =C35-C36 -> -200727.12 | D37: =D35-D36 -> 4518920.8 | E37: =E35-E36 -> 4997845.3 | F37: =F35-F36 -> 5463646.7 | G37: =G35-G36 -> 8141603.5 | H37: =H35-H36 -> 4192467 | I37: =I35-I36 -> 4476096.1 | J37: =J35-J36 -> 4458685.4 | K37: =K35-K36 -> 4434013.3
A39: 1. Electricity are semi-fixed cost. Rs. 100,000 pa is fixed, balance is variable at Rs. 10 per unit usage
A40: 2. Electricity usage in units is given below
B41: Usage in units | C41: 50000 | D41: =C41*1.05 -> 52500 | E41: =D41*1.05 -> 55125 | F41: =E41*1.05 -> 57881.25 | G41: =F41*1.05 -> 60775.312 | H41: =G41*1.05 -> 63814.078 | I41: =H41*1.05 -> 67004.782 | J41: =I41 -> 67004.782 | K41: =J41 -> 67004.782
B42: Variable cost | C42: =C41*10 -> 500000 | D42: =D41*10 -> 525000 | E42: =E41*10 -> 551250 | F42: =F41*10 -> 578812.5 | G42: =G41*10 -> 607753.12 | H42: =H41*10 -> 638140.78 | I42: =I41*10 -> 670047.82 | J42: =J41*10 -> 670047.82 | K42: =K41*10 -> 670047.82
A43: 3. It is assumed that insuarance cost is 2% of purchase price and this will increase 5% annually
A44: 4. Closing stock is valued at Rs 38 (avg cost)

Sheet Ann 5
A1: Annexure 5- Projected balance sheet
A3: Projected Baalance sheet
A5: Sr. No | B5: Description | C5: Year ending March 31st
C6: I | D6: II | E6: III | F6: IV | G6: V | H6: VI | I6: VII | J6: VIII | K6: IX
A7: A | B7: Asset
A8: 1 | B8: Fixed Capital expenditure
B9: Gross Block | C9: =('Ann 9'!F9*100000)+('Ann 1'!C8*100000) -> 9641500 | D9: =C11 -> 8267350 | E9: =D11 -> 7094365 | F9: =E11 -> 6092866 | G9: =F11 -> 5237576.3 | H9: =G11 -> 4506966 | I9: =H11 -> 3882694.6 | J9: =I11 -> 3349136.6 | K9: =J11 -> 2892977.7
B10: Less- Depreciation | C10: ='Ann 9'!C12+'Ann 9'!D12+'Ann 9'!E12 -> 1374150 | D10: ='Ann 9'!C13+'Ann 9'!D13+'Ann 9'!E13 -> 1172985 | E10: ='Ann 9'!C14+'Ann 9'!D14+'Ann 9'!E14 -> 1001499 | F10: ='Ann 9'!C15+'Ann 9'!D15+'Ann 9'!E15 -> 855289.72 | G10: ='Ann 9'!C16+'Ann 9'!D16+'Ann 9'!E16 -> 730610.28 | H10: ='Ann 9'!C17+'Ann 9'!D17+'Ann 9'!E17 -> 624271.36 | I10: =+'Ann 9'!C18+'Ann 9'!D18+'Ann 9'!E18 -> 533558.01 | J10: ='Ann 9'!C19+'Ann 9'!D19+'Ann 9'!E19 -> 456158.93 | K10: =+'Ann 9'!C20+'Ann 9'!D20+'Ann 9'!E20 -> 390106.24
B11: net Block | C11: =C9-C10 -> 8267350 | D11: =D9-D10 -> 7094365 | E11: =E9-E10 -> 6092866 | F11: =F9-F10 -> 5237576.3 | G11: =G9-G10 -> 4506966 | H11: =H9-H10 -> 3882694.6 | I11: =I9-I10 -> 3349136.6 | J11: =J9-J10 -> 2892977.7 | K11: =K9-K10 -> 2502871.5
A12: 2 | B12: Sundry debtors | C12: ='Ann 4'!C21*30/360 -> 22005634 | D12: ='Ann 4'!D21*30/360 -> 24529815 | E12: ='Ann 4'!E21*30/360 -> 26165136 | F12: ='Ann 4'!F21*30/360 -> 27800457 | G12: ='Ann 4'!G21*30/360 -> 29435778 | H12: ='Ann 4'!H21*30/360 -> 31071099 | I12: ='Ann 4'!I21*30/360 -> 32706420 | J12: ='Ann 4'!J21*30/360 -> 32706420 | K12: ='Ann 4'!K21*30/360 -> 32706420
A13: 3 | B13: Closing stock | C13: ='Ann 4'!C13 -> 1950412.8 | D13: ='Ann 4'!D13 -> 4040140.8 | E13: ='Ann 4'!E13 -> 6269184 | F13: ='Ann 4'!F13 -> 8637542.4 | G13: ='Ann 4'!G13 -> 11145216 | H13: ='Ann 4'!H13 -> 8498227.2 | I13: ='Ann 4'!I13 -> 5711923.2 | J13: ='Ann 4'!J13 -> 2925619.2 | K13: ='Ann 4'!K13 -> 139315.2
A14: 4 | B14: Cash/ bank balance | C14: ='Ann 14'!C21 -> 20893903 | D14: ='Ann 14'!D21 -> 23944479 | E14: ='Ann 14'!E21 -> 27874266 | F14: ='Ann 14'!F21 -> 31984330 | G14: ='Ann 14'!G21 -> 35846356 | H14: ='Ann 14'!H21 -> 44800570 | I14: ='Ann 14'!I21 -> 54087014 | J14: ='Ann 14'!J21 -> 61788162 | K14: ='Ann 14'!K21 -> 69398586
B15: Total assets | C15: =SUM(C11:C14) -> 53117300 | D15: =SUM(D11:D14) -> 59608800 | E15: =SUM(E11:E14) -> 66401452 | F15: =SUM(F11:F14) -> 73659906 | G15: =SUM(G11:G14) -> 80934316 | H15: =SUM(H11:H14) -> 88252590 | I15: =SUM(I11:I14) -> 95854494 | J15: =SUM(J11:J14) -> 1.0031318e+08 | K15: =SUM(K11:K14) -> 1.0474719e+08
A17: B | B17: Liabilities
A18: 1 | B18: Capital | C18: =('Ann 2'!C5+'Ann 2'!C6)*100000 -> 1190000 | D18: =C21 -> 989272.88 | E18: =D21 -> 5508193.7 | F18: =E21 -> 10506039 | G18: =F21 -> 15969686 | H18: =G21 -> 24111289 | I18: =H21 -> 28303756 | J18: =I21 -> 32779852 | K18: =J21 -> 37238538
B19: Add- Profit | C19: ='Ann 4'!C37 -> -200727.12 | D19: ='Ann 4'!D37 -> 4518920.8 | E19: ='Ann 4'!E37 -> 4997845.3 | F19: ='Ann 4'!F37 -> 5463646.7 | G19: ='Ann 4'!G37 -> 8141603.5 | H19: ='Ann 4'!H37 -> 4192467 | I19: ='Ann 4'!I37 -> 4476096.1 | J19: ='Ann 4'!J37 -> 4458685.4 | K19: ='Ann 4'!K37 -> 4434013.3
B20: Less- Drawings | C20: 0 | D20: 0 | E20: 0 | F20: 0 | G20: 0 | H20: 0 | I20: 0 | J20: 0 | K20: 0
B21: Closing capital | C21: =C18+C19 -> 989272.88 | D21: =D18+D19 -> 5508193.7 | E21: =E18+E19 -> 10506039 | F21: =F18+F19 -> 15969686 | G21: =G18+G19 -> 24111289 | H21: =H18+H19 -> 28303756 | I21: =I18+I19 -> 32779852 | J21: =J18+J19 -> 37238538 | K21: =K18+K19 -> 41672551
A22: 2 | B22: term Loan | C22: ='Ann 13'!C14*100000 -> 7986000 | D22: ='Ann 13'!C18*100000 -> 6655000 | E22: ='Ann 13'!C22*100000 -> 5324000 | F22: ='Ann 13'!C26*100000 -> 3993000 | G22: =('Ann 13'!C29-'Ann 13'!D29)*100000 -> 0 | H22: =('Ann 13'!C33-'Ann 13'!D33)*100000 -> 0 | I22: 0 | J22: 0 | K22: 0
A23: 3 | B23: Working capital | C23: ='Ann 1'!$C$25*100000 -> 558500 | D23: ='Ann 1'!$C$25*100000 -> 558500 | E23: ='Ann 1'!$C$25*100000 -> 558500 | F23: ='Ann 1'!$C$25*100000 -> 558500 | G23: ='Ann 1'!$C$25*100000 -> 558500 | H23: ='Ann 1'!$C$25*100000 -> 558500 | I23: ='Ann 1'!$C$25*100000 -> 558500 | J23: ='Ann 1'!$C$25*100000 -> 558500 | K23: ='Ann 1'!$C$25*100000 -> 558500
A24: 4 | B24: Creditors | C24: =('Ann 4'!C10+'Ann 4'!C7)*60/360 -> 43583527 | D24: =('Ann 4'!D10+'Ann 4'!D7)*60/360 -> 46887106 | E24: =('Ann 4'!E10+'Ann 4'!E7)*60/360 -> 50012913 | F24: =('Ann 4'!F10+'Ann 4'!F7)*60/360 -> 53138720 | G24: =('Ann 4'!G10+'Ann 4'!G7)*60/360 -> 56264527 | H24: =('Ann 4'!H10+'Ann 4'!H7)*60/360 -> 59390334 | I24: =('Ann 4'!I10+'Ann 4'!I7)*60/360 -> 62516141 | J24: =('Ann 4'!J10+'Ann 4'!J7)*60/360 -> 62516141 | K24: =('Ann 4'!K10+'Ann 4'!K7)*60/360 -> 62516141
B25: Total liabilities | C25: =SUM(C21:C24) -> 53117300 | D25: =SUM(D21:D24) -> 59608800 | E25: =SUM(E21:E24) -> 66401452 | F25: =SUM(F21:F24) -> 73659906 | G25: =SUM(G21:G24) -> 80934316 | H25: =SUM(H21:H24) -> 88252590 | I25: =SUM(I21:I24) -> 95854494 | J25: =SUM(J21:J24) -> 1.0031318e+08 | K25: =SUM(K21:K24) -> 1.0474719e+08
B27: Current Ratio
B28: Current Assets | C28: =SUM(C12:C14) -> 44849950 | D28: =SUM(D12:D14) -> 52514435 | E28: =SUM(E12:E14) -> 60308586 | F28: =SUM(F12:F14) -> 68422329 | G28: =SUM(G12:G14) -> 76427350 | H28: =SUM(H12:H14) -> 84369896 | I28: =SUM(I12:I14) -> 92505357 | J28: =SUM(J12:J14) -> 97420201 | K28: =SUM(K12:K14) -> 1.0224432e+08
B29: Current Liabilities | C29: =C24+C23 -> 44142027 | D29: =D24+D23 -> 47445606 | E29: =E24+E23 -> 50571413 | F29: =F24+F23 -> 53697220 | G29: =G24+G23 -> 56823027 | H29: =H24+H23 -> 59948834 | I29: =I24+I23 -> 63074641 | J29: =J24+J23 -> 63074641 | K29: =K24+K23 -> 63074641
B30: Ratio | C30: =C28/C29 -> 1.0160374 | D30: =D28/D29 -> 1.1068345 | E30: =E28/E29 -> 1.192543 | F30: =F28/F29 -> 1.2742248 | G30: =G28/G29 -> 1.3450067 | H30: =H28/H29 -> 1.4073651 | I30: =I28/I29 -> 1.4666014 | J30: =J28/J29 -> 1.5445225 | K30: =K28/K29 -> 1.6210052
B31: Average | F31: =AVERAGE(C30:K30) -> 1.3304601
B33: Debt Equity ratio
B34: Debt | C34: =C22+C23 -> 8544500 | D34: =D22+D23 -> 7213500 | E34: =E22+E23 -> 5882500 | F34: =F22+F23 -> 4551500 | G34: =G22+G23 -> 558500 | H34: =H22+H23 -> 558500 | I34: =I22+I23 -> 558500 | J34: =J22+J23 -> 558500 | K34: =K22+K23 -> 558500
B35: Equity | C35: =C21 -> 989272.88 | D35: =D21 -> 5508193.7 | E35: =E21 -> 10506039 | F35: =F21 -> 15969686 | G35: =G21 -> 24111289 | H35: =H21 -> 28303756 | I35: =I21 -> 32779852 | J35: =J21 -> 37238538 | K35: =K21 -> 41672551
B36: Ratio | C36: =C34/C35 -> 8.6371518 | D36: =D34/D35 -> 1.3095945 | E36: =E34/E35 -> 0.55991606 | F36: =F34/F35 -> 0.28500874 | G36: =G34/G35 -> 0.023163423 | H36: =H34/H35 -> 0.019732363 | I36: =I34/I35 -> 0.017037905 | J36: =J34/J35 -> 0.014997904 | K36: =K34/K35 -> 0.013402107
B37: Average | F37: =AVERAGE(C36:K36) -> 1.2088894
B39: Fixed asset coverage ratio
B40: Fixed assets | C40: =C11 -> 8267350 | D40: =D11 -> 7094365 | E40: =E11 -> 6092866 | F40: =F11 -> 5237576.3 | G40: =G11 -> 4506966 | H40: =H11 -> 3882694.6 | I40: =I11 -> 3349136.6 | J40: =J11 -> 2892977.7 | K40: =K11 -> 2502871.5
B41: Debt | C41: =C22+C23 -> 8544500 | D41: =D22+D23 -> 7213500 | E41: =E22+E23 -> 5882500 | F41: =F22+F23 -> 4551500 | G41: =G22+G23 -> 558500 | H41: =H22+H23 -> 558500 | I41: =I22+I23 -> 558500 | J41: =J22+J23 -> 558500 | K41: =K22+K23 -> 558500
B42: ratio | C42: =C40/C41 -> 0.96756393 | D42: =D40/D41 -> 0.98348444 | E42: =E40/E41 -> 1.0357613 | F42: =F40/F41 -> 1.1507363 | G42: =G40/G41 -> 8.069769 | H42: 0 | I42: 0 | J42: 0 | K42: 0
F43: =AVERAGE(C42:K42) -> 1.3563683
B45: Debt service coverage ratio
B46: Interest on loan (TL + WC) | C46: ='Ann 4'!C27 -> 569948.75 | D46: ='Ann 4'!D27 -> 505062.5 | E46: ='Ann 4'!E27 -> 425202.5 | F46: ='Ann 4'!F27 -> 345342.5 | G46: ='Ann 4'!G27 -> 170648.75 | H46: ='Ann 4'!H27 -> 55850 | I46: ='Ann 4'!I27 -> 55850 | J46: ='Ann 4'!J27 -> 55850 | K46: ='Ann 4'!K27 -> 55850
B47: Instalment of loan | C47: =(SUM('Ann 13'!D10:D13)*100000)+('Ann 1'!$C$25*100000) -> 1224000 | D47: =(SUM('Ann 13'!D14:D17)*100000)+('Ann 1'!$C$25*100000) -> 1889500 | E47: =(SUM('Ann 13'!D18:D21)*100000)+('Ann 1'!$C$25*100000) -> 1889500 | F47: =(SUM('Ann 13'!D22:D25)*100000)+('Ann 1'!$C$25*100000) -> 1889500 | G47: =(SUM('Ann 13'!D26:D29)*100000)+('Ann 1'!$C$25*100000) -> 911500 | H47: =(SUM('Ann 13'!D30:D33)*100000)+('Ann 1'!$C$25*100000) -> 558500 | I47: =(SUM('Ann 13'!D34:D37)*100000)+('Ann 1'!$C$25*100000) -> 558500 | J47: =(SUM('Ann 13'!D38:D38)*100000)+('Ann 1'!$C$25*100000) -> 558500 | K47: =(SUM('Ann 13'!D39:D40)*100000)+('Ann 1'!$C$25*100000) -> 558500
...

Sheet Ann 6
A1: Annexure 6 - requirement of Power and Fuel
A3: requirement of Fuel
A5: Fuel
A6: - For Tractor
A7: Mileage | B7: 5 | C7: km per litre
A8: Speed of tractor | B8: 30 | C8: km per hour
A9: Fuel requirement as per the operative hours | B9: =B8*3000*20/B7 -> 360000 | C9: litres
A11: - For Pwer tiller
A12: Mileage | B12: 0.5 | C12: Litre per hour
A13: Fuel requirement during the year for 30 units | B13: =B12*3000*30 -> 45000 | C13: Litres
A15: Total fuel requirement | B15: =B13+B9 -> 405000
A16: Fuel cost per litre | B16: 75
A17: Total fuel cost at 100% capacity utilization | B17: =B15*B16 -> 30375000

Sheet Ann 8
A1: Annexure 8 - Details of Mnpower
A3: Details of Manpower
A5: S. No. | B5: Designation | C5: In no. | D5: Salary per person per month | E5: Annual cost
A6: i. | B6: Factory manager | C6: 1 | D6: 25000 | E6: =D6*C6*12 -> 300000
A7: ii. | B7: Accountant cum cashier | C7: 1 | D7: 12000 | E7: =D7*C7*12 -> 144000
A8: iii. | B8: Mechanic | C8: 3 | D8: 7500 | E8: =D8*C8*12 -> 270000
A9: iv. | B9: Security | C9: 2 | D9: 6000 | E9: =D9*C9*12 -> 144000
A10: v. | B10: Labour | C10: 5 | E10: =400*300*C10 -> 600000 | F10: See note
A11: Total | E11: =SUM(E6:E10) -> 1458000
A13: Add: benefits @ 10% | E13: =E11*10% -> 145800
A14: Total | E14: =SUM(E11:E13) -> 1603800
A16: Total annual wages | E16: =E14 -> 1603800
A17: Annual increase in wages | E17: 0.05
A18: Total manpower | E18: =SUM(C6:C10) -> 12
A20: Note- It is assumed that some of the labour remains even in the off days, considering working days to be 300 days

Sheet Ann 9
A1: Annexure 9 - Computation of Depreciation
A3: Computation of Depreciation
A5: Sr. No. | B5: Particulars | C5: Building and civil work | D5: Plant and Machinery | E5: Misc Fixed Asset | F5: Amount in lakhs
A6: i. | B6: Cost | C6: ='Ann 1'!C15*100000 -> 500000 | D6: =('Ann 1'!C20+'Ann 1'!C37)*100000 -> 8500000 | E6: ='Ann 3'!E19 -> 378000 | F6: =SUM(C6:E6)/100000 -> 93.78
A7: ii. | B7: Pre operatives | C7: 0 | D7: 0 | E7: 0 | F7: =SUM(C7:E7)/100000 -> 0
A8: iii. | B8: Contingencies | C8: 0 | D8: 0 | E8: ='Ann 1'!C39*100000 -> 113500 | F8: =SUM(C8:E8)/100000 -> 1.135
B9: Total | F9: =SUM(F6:F8) -> 94.915
B11: Rates of Depreciation | C11: 0.1 | D11: 0.15 | E11: 0.1 | F11: Total depreciation for the year
A12: Year | B12: 1 | C12: =C11*C6 -> 50000 | D12: =D11*D6 -> 1275000 | E12: =E11*(E6+E8) -> 49150 | F12: =SUM(C12:E12) -> 1374150
A13: Year | B13: 2 | C13: =(C6-C12)*C11 -> 45000 | D13: =(D6-D12)*D11 -> 1083750 | E13: =(E6+E8-E12)*E11 -> 44235 | F13: =SUM(C13:E13) -> 1172985
A14: Year | B14: 3 | C14: =(C6-C12-C13)*C11 -> 40500 | D14: =(D6-D12-D13)*D11 -> 921187.5 | E14: =(E6+E8-E12-E13)*E11 -> 39811.5 | F14: =SUM(C14:E14) -> 1001499
A15: Year | B15: 4 | C15: =(C6-C12-C13-C14)*C11 -> 36450 | D15: =(D6-D12-D13-D14)*D11 -> 783009.38 | E15: =(E6+E8-E12-E13-E14)*E11 -> 35830.35 | F15: =SUM(C15:E15) -> 855289.72
A16: Year | B16: 5 | C16: =(C6-C12-C13-C14-C15)*C11 -> 32805 | D16: =(D6-D12-D13-D14-D15)*D11 -> 665557.97 | E16: =(E6+E8-E12-E13-E14-E15)*E11 -> 32247.315 | F16: =SUM(C16:E16) -> 730610.28
A17: Year | B17: 6 | C17: =(C6-C12-C13-C14-C15-C16)*C11 -> 29524.5 | D17: =(D6-D12-D13-D14-D15-D16)*D11 -> 565724.27 | E17: =(E6+E8-E12-E13-E14-E15-E16)*E11 -> 29022.584 | F17: =SUM(C17:E17) -> 624271.36
A18: Year | B18: 7 | C18: =(C6-C12-C13-C14-C15-C16-C17)*C11 -> 26572.05 | D18: =(D6-D12-D13-D14-D15-D16-D17)*D11 -> 480865.63 | E18: =(E6+E8-E12-E13-E14-E15-E16-E17)*E11 -> 26120.325 | F18: =SUM(C18:E18) -> 533558.01
A19: Year | B19: 8 | C19: =(C6-C12-C13-C14-C15-C16-C17-C18)*C11 -> 23914.845 | D19: =(D6-D12-D13-D14-D15-D16-D17-D18)*D11 -> 408735.79 | E19: =(E6+E8-E12-E13-E14-E15-E16-E17-E18)*E11 -> 23508.293 | F19: =SUM(C19:E19) -> 456158.93
A20: Year | B20: 9 | C20: =(C6-C12-C13-C14-C15-C16-C17-C18-C19)*C11 -> 21523.361 | D20: =(D6-D12-D13-D14-D15-D16-D17-D18-D19)*D11 -> 347425.42 | E20: =(E6+E8-E12-E13-E14-E15-E16-E17-E18-E19)*E11 -> 21157.463 | F20: =SUM(C20:E20) -> 390106.24

Sheet Ann 10
A1: Annexure 10 - Calculation of Income tax
A3: Calculation of Income Tax
A5: Particulars | B5: Year ending March 31st
B6: I | C6: II | D6: III | E6: IV | F6: V | G6: VI | H6: VII | I6: VIII | J6: IX
A7: Net profit before tax | B7: ='Ann 4'!C29 -> 1373111.2 | C7: ='Ann 4'!D29 -> 11932320 | D7: ='Ann 4'!E29 -> 12901131 | E7: ='Ann 4'!F29 -> 13863972 | F7: ='Ann 4'!G29 -> 14915381 | G7: ='Ann 4'!H29 -> 10606336 | H7: ='Ann 4'!I29 -> 11190930 | I7: ='Ann 4'!J29 -> 11072077 | J7: ='Ann 4'!K29 -> 10947281
A8: Add- dep on SLM | B8: 0 | C8: 0 | D8: 0 | E8: 0 | F8: 0 | G8: 0 | H8: 0 | I8: 0 | J8: 0
A9: Sub total | B9: =B7+B8 -> 1373111.2 | C9: =C7+C8 -> 11932320 | D9: =D7+D8 -> 12901131 | E9: =E7+E8 -> 13863972 | F9: =F7+F8 -> 14915381 | G9: =G7+G8 -> 10606336 | H9: =H7+H8 -> 11190930 | I9: =I7+I8 -> 11072077 | J9: =J7+J8 -> 10947281
A10: Less- Dep on WDV | B10: =SUM('Ann 9'!C12:E12) -> 1374150 | C10: =SUM('Ann 9'!C13:E13) -> 1172985 | D10: =SUM('Ann 9'!C14:E14) -> 1001499 | E10: =SUM('Ann 9'!C15:E15) -> 855289.72 | F10: =SUM('Ann 9'!C16:E16) -> 730610.28 | G10: =SUM('Ann 9'!C17:E17) -> 624271.36 | H10: =SUM('Ann 9'!C18:E18) -> 533558.01 | I10: =SUM('Ann 9'!C19:E19) -> 456158.93 | J10: =SUM('Ann 9'!C20:E20) -> 390106.24
A11: Sub total | B11: =B9-B10 -> -1038.75 | C11: =C9-C10 -> 10759335 | D11: =D9-D10 -> 11899632 | E11: =E9-E10 -> 13008683 | F11: =F9-F10 -> 14184770 | G11: =G9-G10 -> 9982064.3 | H11: =H9-H10 -> 10657372 | I11: =I9-I10 -> 10615918 | J11: =J9-J10 -> 10557175
A12: Less - Deductions | B12: 0 | C12: 0 | D12: 0 | E12: 0 | F12: 0 | G12: 0 | H12: 0 | I12: 0 | J12: 0
A13: Taxable profits | B13: =B11 -> -1038.75 | C13: =C11 -> 10759335 | D13: =D11 -> 11899632 | E13: =E11 -> 13008683 | F13: =F11 -> 14184770 | G13: =G11 -> 9982064.3 | H13: =H11 -> 10657372 | I13: =I11 -> 10615918 | J13: =J11 -> 10557175
A14: Income tax @30% | B14: =B13*30% -> -311.625 | C14: =C13*30% -> 3227800.6 | D14: =D13*30% -> 3569889.5 | E14: =E13*30% -> 3902604.8 | F14: =F13*30% -> 4255431.1 | G14: =G13*30% -> 2994619.3 | H14: =H13*30% -> 3197211.5 | I14: =I13*30% -> 3184775.3 | J14: =J13*30% -> 3167152.4

Sheet Ann 11
A1: Annexure 11- Break even analysis (At maximum capacity utilization)
A3: Break even capacity at maximum capacity utilixzation
B5: Sales | E5: ='Ann 4'!C21/70% -> 377239440
B6: Variable cost
B7: - Running and maintenance cost | D7: =E5*5% -> 18861972
B8: - Interest on Working capital | D8: ='Ann 2'!C7*100000*10% -> 0
B9: - electricity expense | D9: ='Ann 4'!K42 -> 670047.82 | E9: =SUM(D7:D9) -> 19532020
B10: Contribution | E10: =E5-E9 -> 3.5770742e+08
B11: Less: Fixed costs
B12: Wages and salaries | E12: ='Ann 8'!E14 -> 1603800
B13: Insurance | E13: ='Ann 4'!C9 -> 170000
B14: Depreciation | E14: ='Ann 9'!F12 -> 1374150
B15: Fixed charges for office | E15: 200000
B16: Electricity fixed charge | E16: 100000
B17: Interest on TL | E17: =SUM('Ann 13'!E10:E13)*100000 -> 514098.75
B18: Fixed cost | E18: =SUM(E12:E17) -> 3962048.8
B20: Particulars | C20: Rs. per kg
B21: Sales price per kg | C21: =Budgets!D21 -> 35
B22: Variable costs
B23: Inut paddy cost | C23: =Budgets!E21*1.1/70% -> 28.285714
B24: Electricity cost | C24: =D9/Budgets!C21 -> 0.051302204
B25: Running and maintenance | C25: =C21*10% -> 3.5
B26: Interest on working capital | C26: =D8/Budgets!C17 -> 0
B27: Contribution per unit | C27: =C21-SUM(C23:C26) -> 3.1629835
B28: BEP in kgs | C28: =E18/C27 -> 1252630.2
B29: Total BEP % | C29: =C28/Budgets!C21 -> 0.095907619
A31: Break-even point is the condition when an entity generate sufficient revenue that it can meet its fixed expense after deducting any variable expense, i.e., the point where contribution is equal to the fixed expense.
A32: For the first year of operation the break-even capacity comes at 9.59% capacity, it is because of the fact that in the Initial year the fixed expense of consultancy for project is taken in to consideration for calculation of BEP. considering our operational capacity in year 1 to be 75% which is more than the BEP, hence we can conclude that the project is sound enough to cover its fixed expense.

Sheet Ann 12
A1: Annexure 12 - Profitability statement
C3: Years
C4: 1 | D4: 2 | E4: 3 | F4: 4 | G4: 5 | H4: 6 | I4: 7 | J4: 8 | K4: 9
A5: Vegetable procument expense | C5: ='Ann 4'!#REF! -> #REF! | D5: ='Ann 4'!#REF! -> #REF! | E5: ='Ann 4'!#REF! -> #REF! | F5: ='Ann 4'!#REF! -> #REF! | G5: ='Ann 4'!#REF! -> #REF! | H5: ='Ann 4'!#REF! -> #REF! | I5: ='Ann 4'!#REF! -> #REF! | J5: ='Ann 4'!#REF! -> #REF! | K5: ='Ann 4'!#REF! -> #REF!
A6: Fruits procurement expense | C6: ='Ann 4'!#REF! -> #REF! | D6: ='Ann 4'!#REF! -> #REF! | E6: ='Ann 4'!#REF! -> #REF! | F6: ='Ann 4'!#REF! -> #REF! | G6: ='Ann 4'!#REF! -> #REF! | H6: ='Ann 4'!#REF! -> #REF! | I6: ='Ann 4'!#REF! -> #REF! | J6: ='Ann 4'!#REF! -> #REF! | K6: ='Ann 4'!#REF! -> #REF!
A7: Direct Expenses

Sheet Ann 13
A1: Annexure 13 - Repayment schedule
A3: Repayment schedule
A4: Amount of Loan (in lakhs) | D4: ='Ann 2'!C8 -> 86.515
A5: Amount of subsidy (in lakhs) | D5: =35%*'Ann 1'!C41 -> 36.4
A6: Rate of interest | D6: 0.06
A7: Moratorium period | D7: 6 months
A9: Year | B9: Quarter | C9: Balance outstanding | D9: Principal instalment | E9: Interest
A10: 1 | B10: 1 | C10: =$D$4 -> 86.515 | D10: 0 | E10: =C10*$D$6/4 -> 1.297725
B11: 2 | C11: =$D$4 -> 86.515 | D11: 0 | E11: =C11*$D$6/4 -> 1.297725
B12: 3 | C12: =$D$4 -> 86.515 | D12: =D4/26 -> 3.3275 | E12: =C12*$D$6/4 -> 1.297725
B13: 4 | C13: =C12-D12 -> 83.1875 | D13: =D12 -> 3.3275 | E13: =C13*$D$6/4 -> 1.2478125
A14: 2 | B14: 1 | C14: =C13-D13 -> 79.86 | D14: =D13 -> 3.3275 | E14: =C14*$D$6/4 -> 1.1979
B15: 2 | C15: =C14-D14 -> 76.5325 | D15: =D14 -> 3.3275 | E15: =C15*$D$6/4 -> 1.1479875
B16: 3 | C16: =C15-D15 -> 73.205 | D16: =D15 -> 3.3275 | E16: =C16*$D$6/4 -> 1.098075
B17: 4 | C17: =C16-D16 -> 69.8775 | D17: =D16 -> 3.3275 | E17: =C17*$D$6/4 -> 1.0481625
A18: 3 | B18: 1 | C18: =C17-D17 -> 66.55 | D18: =D17 -> 3.3275 | E18: =C18*$D$6/4 -> 0.99825
B19: 2 | C19: =C18-D18 -> 63.2225 | D19: =D18 -> 3.3275 | E19: =C19*$D$6/4 -> 0.9483375
B20: 3 | C20: =C19-D19 -> 59.895 | D20: =D19 -> 3.3275 | E20: =C20*$D$6/4 -> 0.898425
B21: 4 | C21: =C20-D20 -> 56.5675 | D21: =D20 -> 3.3275 | E21: =C21*$D$6/4 -> 0.8485125
A22: 4 | B22: 1 | C22: =C21-D21 -> 53.24 | D22: =D21 -> 3.3275 | E22: =C22*$D$6/4 -> 0.7986
B23: 2 | C23: =C22-D22 -> 49.9125 | D23: =D22 -> 3.3275 | E23: =C23*$D$6/4 -> 0.7486875
B24: 3 | C24: =C23-D23 -> 46.585 | D24: =D23 -> 3.3275 | E24: =C24*$D$6/4 -> 0.698775
B25: 4 | C25: =C24-D24 -> 43.2575 | D25: =D24 -> 3.3275 | E25: =C25*$D$6/4 -> 0.6488625
A26: 5 | B26: 1 | C26: =C25-D25 -> 39.93 | D26: =D25 -> 3.3275 | E26: =C26*$D$6/4 -> 0.59895
B27: 2 | C27: =C26-D26 -> 36.6025 | D27: 0.2025 | E27: =C27*$D$6/4 -> 0.5490375
B28: 3 | C28: =C27-D27 -> 36.4 | D28: 0 | E28: 0
B29: 4 | C29: 0 | D29: =D28 -> 0 | E29: =C29*$D$6/4 -> 0
A30: 6 | B30: 1 | C30: =C29-D29 -> 0 | D30: =D29 -> 0 | E30: =C30*$D$6/4 -> 0
B31: 2 | C31: =C30-D30 -> 0 | D31: =D30 -> 0 | E31: =C31*$D$6/4 -> 0
B32: 3 | C32: =C31-D31 -> 0 | D32: =D31 -> 0 | E32: =C32*$D$6/4 -> 0
B33: 4 | C33: =C32-D32 -> 0 | D33: =D32 -> 0 | E33: =C33*$D$6/4 -> 0
A34: 7 | B34: 1 | C34: =C33-D33 -> 0 | D34: =D33 -> 0 | E34: =C34*$D$6/4 -> 0
B35: 2 | C35: =C34-D34 -> 0 | D35: =D34 -> 0 | E35: =C35*$D$6/4 -> 0
B36: 3 | C36: =C35-D35 -> 0 | D36: =D35 -> 0 | E36: =C36*$D$6/4 -> 0
B37: 4 | C37: =C36-D36 -> 0 | D37: 0 | E37: =C37*$D$6/4 -> 0

Sheet Ann 14
A1: Annexure 14 - Cash flow statement
A3: Particulars | B3: 0 | C3: I | D3: II | E3: III | F3: IV | G3: V | H3: VI | I3: VII | J3: VIII | K3: IX
A4: opening balance | B4: ='Ann 2'!C9*100000 -> 558500 | C4: =B21 -> 558500 | D4: =C21 -> 20893903 | E4: =D21 -> 23944479 | F4: =E21 -> 27874266 | G4: =F21 -> 31984330 | H4: =G21 -> 35846356 | I4: =H21 -> 44800570 | J4: =I21 -> 54087014 | K4: =J21 -> 61788162
A5: Add: Capital | B5: =('Ann 2'!C5+'Ann 2'!C6)*100000 -> 1190000 | C5: 0 | D5: 0 | E5: 0 | F5: 0 | G5: 0 | H5: 0 | I5: 0 | J5: 0 | K5: 0
A6: Add: Loan disbursement | B6: ='Ann 2'!C8*100000 -> 8651500 | C6: 0 | D6: 0 | E6: 0 | F6: 0 | G6: 0 | H6: 0 | I6: 0 | J6: 0 | K6: 0
A7: Less: Purchase of asset | B7: ='Ann 9'!F9*100000 -> 9491500 | C7: 0 | D7: 0 | E7: 0 | F7: 0 | G7: 0 | H7: 0 | I7: 0 | J7: 0 | K7: 0
A8: Less: Land purchase | B8: ='Ann 1'!C8*100000 -> 150000
A9: Add: Sales realizations | C9: ='Ann 4'!C21-'Ann 5'!C12 -> 242061974 | D9: ='Ann 4'!D21-'Ann 5'!D12 -> 269827965 | E9: ='Ann 4'!E21-'Ann 5'!E12 -> 287816496 | F9: ='Ann 4'!F21-'Ann 5'!F12 -> 305805027 | G9: ='Ann 4'!G21-'Ann 5'!G12 -> 323793558 | H9: ='Ann 4'!H21-'Ann 5'!H12 -> 341782089 | I9: ='Ann 4'!I21-'Ann 5'!I12 -> 359770620 | J9: ='Ann 4'!J21-'Ann 5'!J12 -> 359770620 | K9: ='Ann 4'!K21-'Ann 5'!K12 -> 359770620
A10: Less: Payment made to creditors of previos year | B10: 0 | C10: 0 | D10: ='Ann 5'!C24 -> 43583527 | E10: ='Ann 5'!D24 -> 46887106 | F10: ='Ann 5'!E24 -> 50012913 | G10: ='Ann 5'!F24 -> 53138720 | H10: ='Ann 5'!G24 -> 56264527 | I10: ='Ann 5'!H24 -> 59390334 | J10: ='Ann 5'!I24 -> 62516141 | K10: ='Ann 5'!J24 -> 62516141
A11: Add: Receipts from debtors of previos year | B11: 0 | C11: 0 | D11: ='Ann 5'!C12 -> 22005634 | E11: ='Ann 5'!D12 -> 24529815 | F11: ='Ann 5'!E12 -> 26165136 | G11: ='Ann 5'!F12 -> 27800457 | H11: ='Ann 5'!G12 -> 29435778 | I11: ='Ann 5'!H12 -> 31071099 | J11: ='Ann 5'!I12 -> 32706420 | K11: ='Ann 5'!J12 -> 32706420
A12: Less: Payments made for current year purchase | B12: 0 | C12: ='Ann 4'!C11+'Ann 4'!C18-'Ann 5'!C24 -> 220491434 | D12: ='Ann 4'!D11+'Ann 4'!D18-'Ann 5'!D24 -> 2.3712302e+08 | E12: ='Ann 4'!E11+'Ann 4'!E18-'Ann 5'!E24 -> 2.5287143e+08 | F12: ='Ann 4'!F11+'Ann 4'!F18-'Ann 5'!F24 -> 2.6862581e+08 | G12: ='Ann 4'!G11+'Ann 4'!G18-'Ann 5'!G24 -> 2.8438645e+08 | H12: ='Ann 4'!H11+'Ann 4'!H18-'Ann 5'!H24 -> 3.0015368e+08 | I12: ='Ann 4'!I11+'Ann 4'!I18-'Ann 5'!I24 -> 3.1592782e+08 | J12: ='Ann 4'!J11+'Ann 4'!J18-'Ann 5'!J24 -> 3.1604667e+08 | K12: ='Ann 4'!K11+'Ann 4'!K18-'Ann 5'!K24 -> 3.1617146e+08
A13: Less: Pre incorporation expense | B13: ='Ann 4'!C30 -> 200000 | C13: 0 | D13: 0 | E13: 0 | F13: 0 | G13: 0 | H13: 0 | I13: 0 | J13: 0 | K13: 0
A14: Less: Interest payments | B14: 0 | C14: ='Ann 4'!C27 -> 569948.75 | D14: ='Ann 4'!D27 -> 505062.5 | E14: ='Ann 4'!E27 -> 425202.5 | F14: ='Ann 4'!F27 -> 345342.5 | G14: ='Ann 4'!G27 -> 170648.75 | H14: ='Ann 4'!H27 -> 55850 | I14: ='Ann 4'!I27 -> 55850 | J14: ='Ann 4'!J27 -> 55850 | K14: ='Ann 4'!K27 -> 55850
B15: =B4+B5+B6-B7-B8-B13 -> 558500 | C15: =C4+C9-C10+C11-C12-C14+C5+C6-C7 -> 21559091 | D15: =D4+D9-D10+D11-D12-D14+D5+D6-D7 -> 31515893 | E15: =E4+E9-E10+E11-E12-E14+E5+E6-E7 -> 36107052 | F15: =F4+F9-F10+F11-F12-F14+F5+F6-F7 -> 40860366 | G15: =G4+G9-G10+G11-G12-G14+G5+G6-G7 -> 45882523 | H15: =H4+H9-H10+H11-H12-H14+H5+H6-H7 -> 50590167 | I15: =I4+I9-I10+I11-I12-I14+I5+I6-I7 -> 60268289 | J15: =J4+J9-J10+J11-J12-J14+J5+J6-J7 -> 67945394 | K15: =K4+K9-K10+K11-K12-K14+K5+K6-K7 -> 75521747
A16: Less: Income tax | B16: 0 | C16: ='Ann 4'!C34 -> -311.625 | D16: ='Ann 4'!D34 -> 3227800.6 | E16: ='Ann 4'!E34 -> 3569889.5 | F16: ='Ann 4'!F34 -> 3902604.8 | G16: ='Ann 4'!G34 -> 4255431.1 | H16: ='Ann 4'!H34 -> 2994619.3 | I16: ='Ann 4'!I34 -> 3197211.5 | J16: ='Ann 4'!J34 -> 3184775.3 | K16: ='Ann 4'!K34 -> 3167152.4
B17: 0 | C17: =C15-C16 -> 21559403 | D17: =D15-D16 -> 28288093 | E17: =E15-E16 -> 32537163 | F17: =F15-F16 -> 36957761 | G17: =G15-G16 -> 41627092 | H17: =H15-H16 -> 47595548 | I17: =I15-I16 -> 57071078 | J17: =J15-J16 -> 64760619 | K17: =K15-K16 -> 72354595
A18: Less: Distrubutions made from profits | B18: 0 | C18: ='Ann 4'!C36 -> 0 | D18: ='Ann 4'!D36 -> 3012613.9 | E18: ='Ann 4'!E36 -> 3331896.9 | F18: ='Ann 4'!F36 -> 3642431.1 | G18: ='Ann 4'!G36 -> 5427735.7 | H18: ='Ann 4'!H36 -> 2794978 | I18: ='Ann 4'!I36 -> 2984064.1 | J18: ='Ann 4'!J36 -> 2972456.9 | K18: ='Ann 4'!K36 -> 2956008.9
B19: 0 | C19: =C17-C18 -> 21559403 | D19: =D17-D18 -> 25275479 | E19: =E17-E18 -> 29205266 | F19: =F17-F18 -> 33315330 | G19: =G17-G18 -> 36199356 | H19: =H17-H18 -> 44800570 | I19: =I17-I18 -> 54087014 | J19: =J17-J18 -> 61788162 | K19: =K17-K18 -> 69398586
A20: Less: Principal repayment of loan | B20: 0 | C20: =SUM('Ann 13'!D10:D13)*100000 -> 665500 | D20: =SUM('Ann 13'!D14:D17)*100000 -> 1331000 | E20: =SUM('Ann 13'!D18:D21)*100000 -> 1331000 | F20: =SUM('Ann 13'!D22:D25)*100000 -> 1331000 | G20: =SUM('Ann 13'!D26:D29)*100000 -> 353000 | H20: =SUM('Ann 13'!D30:D33)*100000 -> 0 | I20: =SUM('Ann 13'!D34:D37)*100000 -> 0 | J20: 0 | K20: 0
A21: Closing cash balance | B21: =B4+B5+B6-B7-B13-B8 -> 558500 | C21: =C19-C20 -> 20893903 | D21: =D19-D20 -> 23944479 | E21: =E19-E20 -> 27874266 | F21: =F19-F20 -> 31984330 | G21: =G19-G20 -> 35846356 | H21: =H19-H20 -> 44800570 | I21: =I19-I20 -> 54087014 | J21: =J19-J20 -> 61788162 | K21: =K19-K20 -> 69398586
A23: PV dicounting rate | B23: 0.06
A24: PVF | B24: 1 | C24: =1/(1+$B$23) -> 0.94339623 | D24: =1/((1+$B$23)*(1+$B$23)) -> 0.88999644 | E24: =1/((1+$B$23)*(1+$B$23)*(1+$B$23)) -> 0.83961928 | F24: =1/((1+$B$23)*(1+$B$23)*(1+$B$23)*(1+$B$23)) -> 0.79209366 | G24: =1/((1+$B$23)*(1+$B$23)*(1+$B$23)*(1+$B$23)*(1+$B$23)) -> 0.74725817 | H24: =1/((1+$B$23)*(1+$B$23)*(1+$B$23)*(1+$B$23)*(1+$B$23)*(1+$B$23)) -> 0.70496054 | I24: =1/((1+$B$23)*(1+$B$23)*(1+$B$23)*(1+$B$23)*(1+$B$23)*(1+$B$23)*(1+$B$23)) -> 0.66505711 | J24: =1/((1+$B$23)*(1+$B$23)*(1+$B$23)*(1+$B$23)*(1+$B$23)*(1+$B$23)*(1+$B$23)*(1+$B$23)) -> 0.62741237 | K24: =1/((1+$B$23)*(1+$B$23)*(1+$B$23)*(1+$B$23)*(1+$B$23)*(1+$B$23)*(1+$B$23)*(1+$B$23)*(1+$B$23)) -> 0.59189846
A25: Inflows | B25: =B4+B9+B11+B5+B6 -> 10400000 | C25: =C4+C9+C11+C5+C6 -> 242620474 | D25: =D4+D9+D11 -> 3.127275e+08 | E25: =E4+E9+E11 -> 3.3629079e+08 | F25: =F4+F9+F11 -> 3.5984443e+08 | G25: =G4+G9+G11 -> 3.8357835e+08 | H25: =H4+H9+H11 -> 4.0706422e+08 | I25: =I4+I9+I11 -> 4.3564229e+08 | J25: =J4+J9+J11 -> 4.4656405e+08 | K25: =K4+K9+K11 -> 4.542652e+08
A26: PV of Inflows | B26: =B25*B24 -> 10400000 | C26: =C25*C24 -> 2.2888724e+08 | D26: =D25*D24 -> 2.7832636e+08 | E26: =E25*E24 -> 2.8235623e+08 | F26: =F25*F24 -> 2.8503049e+08 | G26: =G25*G24 -> 2.8663205e+08 | H26: =H25*H24 -> 2.8696421e+08 | I26: =I25*I24 -> 2.89727e+08 | ... K26: =K25*K24 -> 2.6887888e+08
A27: Outflows | B27: =B10+B12+B14+B16+B18+B20+B7+B13+B8 -> 9841500 | C27: =C10+C12+C14+C16+C18+C20+C7+C13 -> 2.2172657e+08 | D27: =D10+D12+D14+D16+D18+D20+D7+D13 -> 2.8878302e+08 | E27: =E10+E12+E14+E16+E18+E20+E7+E13 -> 3.0841652e+08 | F27: =F10+F12+F14+F16+F18+F20+F7+F13 -> 3.278601e+08 | G27: =G10+G12+G14+G16+G18+G20+G7+G13 -> 3.4773199e+08 | H27: =H10+H12+H14+H16+H18+H20+H7+H13 -> 3.6226365e+08 | I27: =I10+I12+I14+I16+I18+I20+I7+I13 -> 3.8155527e+08 | J27: =J10+J12+J14+J16+J18+J20+J7+J13 -> 3.8477589e+08 | K27: =K10+K12+K14+K16+K18+K20+K7+K13 -> 3.8486662e+08
A28: PV of Outflows | B28: =B27*B24 -> 9841500 | C28: =C27*C24 -> 2.0917601e+08 | D28: =D27*D24 -> 2.5701586e+08 | E28: =E27*E24 -> 2.5895246e+08 | F28: =F27*F24 -> 2.5969591e+08 | G28: =G27*G24 -> 2.5984557e+08 | H28: =H27*H24 -> 2.5538158e+08 | I28: =I27*I24 -> 2.5375605e+08 | ... K28: =K27*K24 -> 2.2780196e+08
A30: Net cash inflow | B30: =B25-B27 -> 558500 | C30: =C25-C27 -> 20893903 | D30: =D25-D27 -> 23944479 | E30: =E25-E27 -> 27874266 | F30: =F25-F27 -> 31984330 | G30: =G25-G27 -> 35846356 | H30: =H25-H27 -> 44800570 | I30: =I25-I27 -> 54087014 | ... K30: =K25-K27 -> 69398586
A31: Net Present value | B31: =B26-B28 -> 558500 | C31: =C30*C24 -> 19711229 | D31: =D30*D24 -> 21310501 | E31: =E30*E24 -> 23403771 | F31: =F30*F24 -> 25334585 | G31: =G30*G24 -> 26786483 | H31: =H30*H24 -> 31582634 | I31: =I30*I24 -> 35970953 | J31: =J30*J24 -> 38766657 | K31: =K30*K24 -> 41076916 | L31: =SUM(C31:K31) -> 2.6394373e+08

Sheet Budgets
B1: Sales Budget
A2: S. No. | B2: Particulars | C2: Year ending March 31st
C3: I | D3: II | E3: III | F3: IV | G3: V | H3: VI | I3: VII | J3: VIII | K3: IX
A4: A. | B4: Estimated ocupational capacity | C4: 0.7 | D4: 0.75 | E4: 0.8 | F4: 0.85 | G4: 0.9 | H4: 0.95 | I4: 1 | J4: 1 | K4: 1
A5: B. | B5: Production capacity (kgs) [A. X Total capacity] | C5: =$C$17*C4 -> 9142560 | D5: =$C$17*D4 -> 9795600 | E5: =$C$17*E4 -> 10448640 | F5: =$C$17*F4 -> 11101680 | G5: =$C$17*G4 -> 11754720 | H5: =$C$17*H4 -> 12407760 | I5: =$C$17*I4 -> 13060800 | J5: =$C$17*J4 -> 13060800 | K5: =$C$17*K4 -> 13060800
A6: C. | B6: Own produce (kgs) [B. X 2/3] | C6: =C5*2/3 -> 6095040 | D6: =D5*2/3 -> 6530400 | E6: =E5*2/3 -> 6965760 | F6: =F5*2/3 -> 7401120 | G6: =G5*2/3 -> 7836480 | H6: =H5*2/3 -> 8271840 | I6: =I5*2/3 -> 8707200 | J6: =J5*2/3 -> 8707200 | K6: =K5*2/3 -> 8707200
A7: D. | B7: Government produce (kgs) [B. X 1/3] | C7: =C5-C6 -> 3047520 | D7: =D5-D6 -> 3265200 | E7: =E5-E6 -> 3482880 | F7: =F5-F6 -> 3700560 | G7: =G5-G6 -> 3918240 | H7: =H5-H6 -> 4135920 | I7: =I5-I6 -> 4353600 | J7: =J5-J6 -> 4353600 | K7: =K5-K6 -> 4353600
A8: E. | B8: Revenue from sale of own produce [C. X Sale price per kg] | C8: =C6*$D$21 -> 213326400 | D8: =D6*$D$21*1.05 -> 239992200 | E8: =E6*$D$21*1.05 -> 255991680 | F8: =F6*$D$21*1.05 -> 271991160 | G8: =G6*$D$21*1.05 -> 287990640 | H8: =H6*$D$21*1.05 -> 303990120 | I8: =I6*$D$21*1.05 -> 319989600 | J8: =J6*$D$21*1.05 -> 319989600 | K8: =K6*$D$21*1.05 -> 319989600
A9: F. | B9: Revenue from processing government produce [D. X Processing charges] | C9: =C7*$F$21 -> 457128 | D9: =D7*$F$21 -> 489780 | E9: =E7*$F$21 -> 522432 | F9: =F7*$F$21 -> 555084 | G9: =G7*$F$21 -> 587736 | H9: =H7*$F$21 -> 620388 | I9: =I7*$F$21 -> 653040 | J9: =J7*$F$21 -> 653040 | K9: =K7*$F$21 -> 653040
A10: G. | B10: Input required (kgs) [C. X Input output ratio] | C10: =C5/70% -> 13060800 | D10: =D5/70% -> 13993714 | E10: =E5/70% -> 14926629 | F10: =F5/70% -> 15859543 | G10: =G5/70% -> 16792457 | H10: =H5/70% -> 17725371 | I10: =I5/70% -> 18658286 | J10: =J5/70% -> 18658286 | K10: =K5/70% -> 18658286
A11: H. | B11: Sale of by products -Husk | C11: =10%*C5*10 -> 9142560 | D11: =10%*D5*10 -> 9795600 | E11: =10%*E5*10 -> 10448640 | F11: =10%*F5*10 -> 11101680 | G11: =10%*G5*10 -> 11754720 | H11: =10%*H5*10 -> 12407760 | I11: =10%*I5*10 -> 13060800 | J11: =10%*J5*10 -> 13060800 | K11: =10%*K5*10 -> 13060800
A12: I. | B12: Sale of by products -Bran | C12: =15%*C5*30 -> 41141520 | D12: =15%*D5*30 -> 44080200 | E12: =15%*E5*30 -> 47018880 | F12: =15%*F5*30 -> 49957560 | G12: =15%*G5*30 -> 52896240 | H12: =15%*H5*30 -> 55834920 | I12: =15%*I5*30 -> 58773600 | J12: =15%*J5*30 -> 58773600 | K12: =15%*K5*30 -> 58773600
B13: Total revenue | C13: =C9+C8+C11+C12 -> 264067608 | D13: =D9+D8+D11+D12 -> 294357780 | E13: =E9+E8+E11+E12 -> 313981632 | F13: =F9+F8+F11+F12 -> 333605484 | G13: =G9+G8+G11+G12 -> 353229336 | H13: =H9+H8+H11+H12 -> 372853188 | I13: =I9+I8+I11+I12 -> 392477040 | J13: =J9+J8+J11+J12 -> 392477040 | K13: =K9+K8+K11+K12 -> 392477040
B15: Estimation of Production capacity
B17: Per annum capacity in kgs | C17: =3628*16*225 -> 13060800
B18: Operational days | C18: 225 days
B20: Products | C20: Production at 100% capacity | D20: sales prices per kg | E20: purchase price per kg | F20: Processing charges for government produce per kg
B21: Output | C21: =C17 -> 13060800 | D21: 35 | E21: 18 | F21: 0.15
B23: Production Budget
B24: Particulars | C24: Year ending March 31st
C25: I | D25: II | E25: III | F25: IV | G25: V | H25: VI | I25: VII | J25: VIII | K25: IX
B26: Opening Stock | C26: 0 | D26: =C29 -> 60950.4 | E26: =D29 -> 126254.4 | F26: =E29 -> 195912 | G26: =F29 -> 269923.2 | H26: =G29 -> 348288 | I26: =H29 -> 265569.6 | J26: =I29 -> 178497.6 | K26: =J29 -> 91425.6
B27: Production | C27: =C6 -> 6095040 | D27: =D6 -> 6530400 | E27: =E6 -> 6965760 | F27: =F6 -> 7401120 | G27: =G6 -> 7836480 | H27: =H6 -> 8271840 | I27: =I6 -> 8707200 | J27: =J6 -> 8707200 | K27: =K6 -> 8707200
B28: Sales | C28: =C6*99% -> 6034089.6 | D28: =D6*99% -> 6465096 | E28: =E6*99% -> 6896102.4 | F28: =F6*99% -> 7327108.8 | G28: =G6*99% -> 7758115.2 | H28: =H6*101% -> 8354558.4 | I28: =I6*101% -> 8794272 | J28: =J6*101% -> 8794272 | K28: =K6*101% -> 8794272
B29: Closing Stock | C29: =C26+C27-C28 -> 60950.4 | D29: =D26+D27-D28 -> 126254.4 | E29: =E26+E27-E28 -> 195912 | F29: =F26+F27-F28 -> 269923.2 | G29: =G26+G27-G28 -> 348288 | H29: =H26+H27-H28 -> 265569.6 | I29: =I26+I27-I28 -> 178497.6 | J29: =J26+J27-J28 -> 91425.6 | K29: =K26+K27-K28 -> 4353.6
B31: It is assumed that 2/3rd capacity of rice mill is used to process own produce, i.e., to process paddy into rice which is further sold by rice mill in the market. The balance 1/3rd capacity is used to process the government produce, for such processing rice mill charges minimal processing charges.
B32: In case of processing own produce, paddy is procured from farmers and processed for selling. While for government produce, paddy is provided to mill for further processing and only processing charges are taken for such work.
B33: Sales proce per kg is Rs. 38 (considering single type of output rice) which will increase 5% annually
B34: Input output ratio is taken to be 70%
B35: Assumed that Husk being by product of producing the rice, is 10% of the total production capacity. Sale price of husk per kg is rs. 10

Sheet For word file
B2: I | C2: II | D2: III | E2: IV | F2: V | G2: VI | H2: VII | I2: VIII | J2: IX
A3: Turnover | B3: ='Ann 4'!C21/100000 -> 2640.6761 | C3: ='Ann 4'!D21/100000 -> 2943.5778 | D3: ='Ann 4'!E21/100000 -> 3139.8163 | E3: ='Ann 4'!F21/100000 -> 3336.0548 | F3: ='Ann 4'!G21/100000 -> 3532.2934 | G3: ='Ann 4'!H21/100000 -> 3728.5319 | H3: ='Ann 4'!I21/100000 -> 3924.7704 | I3: ='Ann 4'!J21/100000 -> 3924.7704 | J3: ='Ann 4'!K21/100000 -> 3924.7704
A4: Cost Of operations | B4: ='Ann 4'!C20/100000 -> 2621.2455 | C4: ='Ann 4'!D20/100000 -> 2819.204 | D4: ='Ann 4'!E20/100000 -> 3006.553 | E4: ='Ann 4'!F20/100000 -> 3193.9617 | F4: ='Ann 4'!G20/100000 -> 3381.4331 | G4: ='Ann 4'!H20/100000 -> 3621.91 | H4: ='Ann 4'!I20/100000 -> 3812.3026 | I4: ='Ann 4'!J20/100000 -> 3813.4911 | J4: ='Ann 4'!K20/100000 -> 3814.7391
A5: Gross profit | B5: =B3-B4 -> 19.4306 | C5: =C3-C4 -> 124.37383 | D5: =D3-D4 -> 133.26333 | E5: =E3-E4 -> 142.09315 | F5: =F3-F4 -> 150.86029 | G5: =G3-G4 -> 106.62186 | H5: =H3-H4 -> 112.4678 | I5: =I3-I4 -> 111.27927 | J5: =J3-J4 -> 110.03131
A6: EBITDA | B6: =B5 -> 19.4306 | C6: =C5 -> 124.37383 | D6: =D5 -> 133.26333 | E6: =E5 -> 142.09315 | F6: =F5 -> 150.86029 | G6: =G5 -> 106.62186 | H6: =H5 -> 112.4678 | I6: =I5 -> 111.27927 | J6: =J5 -> 110.03131
A7: Profit before tax | B7: ='Ann 4'!C33/100000 -> -2.0103875 | C7: ='Ann 4'!D33/100000 -> 107.59335 | D7: ='Ann 4'!E33/100000 -> 118.99632 | E7: ='Ann 4'!F33/100000 -> 130.08683 | F7: ='Ann 4'!G33/100000 -> 178.2477 | G7: ='Ann 4'!H33/100000 -> 99.820643 | H7: ='Ann 4'!I33/100000 -> 106.57372 | I7: ='Ann 4'!J33/100000 -> 106.15918 | J7: ='Ann 4'!K33/100000 -> 105.57175
A8: Profit after tax | B8: ='Ann 4'!C35/100000 -> -2.0072713 | C8: ='Ann 4'!D35/100000 -> 75.315347 | D8: ='Ann 4'!E35/100000 -> 83.297422 | E8: ='Ann 4'!F35/100000 -> 91.060778 | F8: ='Ann 4'!G35/100000 -> 135.69339 | G8: ='Ann 4'!H35/100000 -> 69.87445 | H8: ='Ann 4'!I35/100000 -> 74.601602 | I8: ='Ann 4'!J35/100000 -> 74.311424 | J8: ='Ann 4'!K35/100000 -> 73.900222

Sheet Assumptions
A1: S. no. | B1: Assumptions
A2: 1 | B2: Electricity are semi-fixed cost. Rs. 100,000 pa is fixed, balance is variable at Rs. 10 per unit usage
A3: 2 | B3: Electricity usage in units is given below
C4: Usage in units | D4: 50000 | E4: =D4*1.05 -> 52500 | F4: =E4*1.05 -> 55125 | G4: =F4*1.05 -> 57881.25 | H4: =G4*1.05 -> 60775.312 | I4: =H4*1.05 -> 63814.078 | J4: =I4*1.05 -> 67004.782 | K4: =J4 -> 67004.782 | L4: =K4 -> 67004.782
C5: Variable cost | D5: =D4*10 -> 500000 | E5: =E4*10 -> 525000 | F5: =F4*10 -> 551250 | G5: =G4*10 -> 578812.5 | H5: =H4*10 -> 607753.12 | I5: =I4*10 -> 638140.78 | J5: =J4*10 -> 670047.82 | K5: =K4*10 -> 670047.82 | L5: =L4*10 -> 670047.82
A6: 3 | B6: Asssumed that 60 days of purchases are average creditors maintained
A7: 4 | B7: Assumed that 30 days of sales are average debtors maintained by the business
A8: 5 | B8: It is assumed that insuarance cost is 2% of purchase price and this will increase 5% annually

Sheet Sheet1
A1: cash flow statement
C2: I | D2: II | E2: III | F2: IV | G2: V | H2: VI | I2: VII | J2: VIII | K2: IX
A3: Sales realized | C3: ='Ann 4'!C21/300*270 -> 2.3766085e+08 | D3: ='Ann 4'!D21/300*270 -> 264922002 | E3: ='Ann 4'!E21/300*270 -> 2.8258347e+08 | F3: ='Ann 4'!F21/300*270 -> 3.0024494e+08 | G3: ='Ann 4'!G21/300*270 -> 3.179064e+08 | H3: ='Ann 4'!H21/300*270 -> 3.3556787e+08 | I3: ='Ann 4'!I21/300*270 -> 353229336 | J3: ='Ann 4'!J21/300*270 -> 353229336 | K3: ='Ann 4'!K21/300*270 -> 353229336
A4: Term loan | C4: 5000000
A5: assisstance | C5: 21492978
A7: less- Purchase of assets | C7: ='Ann 3'!E21 -> 9378000
